Workbook

Sheet Resumo
A1: Autorizações do SINAFLOR no Acre — resumo
A2: Fonte: SINAFLOR/IBAMA, base pública de projetos autorizados, cópia de 05/09/2026, recorte uf = AC.
A3: Data de referência da vigência | B3: 46296
A5: Autorizações por atividade
A6: Atividade | B6: Autorizações | C6: Vigentes | D6: Vencidas | E6: Sem data | F6: Área (ha)
A7: Autorização de Supressão de Vegetação - ASV | B7: =COUNTIF(Autorizacoes!$C$2:$C$371,$A7) -> 47 | C7: =COUNTIFS(Autorizacoes!$C$2:$C$371,$A7,Autorizacoes!$M$2:$M$371,"vigente") -> 20 | D7: =COUNTIFS(Autorizacoes!$C$2:$C$371,$A7,Autorizacoes!$M$2:$M$371,"vencida") -> 24 | E7: =COUNTIFS(Autorizacoes!$C$2:$C$371,$A7,Autorizacoes!$M$2:$M$371,"sem data") -> 3 | F7: =SUMIF(Autorizacoes!$C$2:$C$371,$A7,Autorizacoes!$N$2:$N$371) -> 23552.041
A8: Exploração de Floresta Plantada | B8: =COUNTIF(Autorizacoes!$C$2:$C$371,$A8) -> 1 | C8: =COUNTIFS(Autorizacoes!$C$2:$C$371,$A8,Autorizacoes!$M$2:$M$371,"vigente") -> 0 | D8: =COUNTIFS(Autorizacoes!$C$2:$C$371,$A8,Autorizacoes!$M$2:$M$371,"vencida") -> 1 | E8: =COUNTIFS(Autorizacoes!$C$2:$C$371,$A8,Autorizacoes!$M$2:$M$371,"sem data") -> 0 | F8: =SUMIF(Autorizacoes!$C$2:$C$371,$A8,Autorizacoes!$N$2:$N$371) -> 1.3671207
A9: PMFS/POA | B9: =COUNTIF(Autorizacoes!$C$2:$C$371,$A9) -> 246 | C9: =COUNTIFS(Autorizacoes!$C$2:$C$371,$A9,Autorizacoes!$M$2:$M$371,"vigente") -> 97 | D9: =COUNTIFS(Autorizacoes!$C$2:$C$371,$A9,Autorizacoes!$M$2:$M$371,"vencida") -> 149 | E9: =COUNTIFS(Autorizacoes!$C$2:$C$371,$A9,Autorizacoes!$M$2:$M$371,"sem data") -> 0 | F9: =SUMIF(Autorizacoes!$C$2:$C$371,$A9,Autorizacoes!$N$2:$N$371) -> 954689.03
A10: Uso Alternativo do Solo | B10: =COUNTIF(Autorizacoes!$C$2:$C$371,$A10) -> 76 | C10: =COUNTIFS(Autorizacoes!$C$2:$C$371,$A10,Autorizacoes!$M$2:$M$371,"vigente") -> 29 | D10: =COUNTIFS(Autorizacoes!$C$2:$C$371,$A10,Autorizacoes!$M$2:$M$371,"vencida") -> 47 | E10: =COUNTIFS(Autorizacoes!$C$2:$C$371,$A10,Autorizacoes!$M$2:$M$371,"sem data") -> 0 | F10: =SUMIF(Autorizacoes!$C$2:$C$371,$A10,Autorizacoes!$N$2:$N$371) -> 33824.016
A11: Total | B11: =SUM(B7:B10) -> 370 | C11: =SUM(C7:C10) -> 146 | D11: =SUM(D7:D10) -> 221 | E11: =SUM(E7:E10) -> 3 | F11: =SUM(F7:F10) -> 1012066.4
A14: Autorizações por órgão emissor
A15: Órgão emissor | B15: Autorizações | C15: Vigentes | D15: Vencidas | E15: Sem data | F15: Área (ha)
A16: INSTITUTO DE MEIO AMBIENTE DO ACRE | B16: =COUNTIF(Autorizacoes!$D$2:$D$371,$A16) -> 354 | C16: =COUNTIFS(Autorizacoes!$D$2:$D$371,$A16,Autorizacoes!$M$2:$M$371,"vigente") -> 143 | D16: =COUNTIFS(Autorizacoes!$D$2:$D$371,$A16,Autorizacoes!$M$2:$M$371,"vencida") -> 208 | E16: =COUNTIFS(Autorizacoes!$D$2:$D$371,$A16,Autorizacoes!$M$2:$M$371,"sem data") -> 3 | F16: =SUMIF(Autorizacoes!$D$2:$D$371,$A16,Autorizacoes!$N$2:$N$371) -> 764514.84
A17: Superintendência do Ibama no Estado do Acre - AC | B17: =COUNTIF(Autorizacoes!$D$2:$D$371,$A17) -> 14 | C17: =COUNTIFS(Autorizacoes!$D$2:$D$371,$A17,Autorizacoes!$M$2:$M$371,"vigente") -> 3 | D17: =COUNTIFS(Autorizacoes!$D$2:$D$371,$A17,Autorizacoes!$M$2:$M$371,"vencida") -> 11 | E17: =COUNTIFS(Autorizacoes!$D$2:$D$371,$A17,Autorizacoes!$M$2:$M$371,"sem data") -> 0 | F17: =SUMIF(Autorizacoes!$D$2:$D$371,$A17,Autorizacoes!$N$2:$N$371) -> 229590.7
A18: Serviço de Regularização Ambiental | B18: =COUNTIF(Autorizacoes!$D$2:$D$371,$A18) -> 1 | C18: =COUNTIFS(Autorizacoes!$D$2:$D$371,$A18,Autorizacoes!$M$2:$M$371,"vigente") -> 0 | D18: =COUNTIFS(Autorizacoes!$D$2:$D$371,$A18,Autorizacoes!$M$2:$M$371,"vencida") -> 1 | E18: =COUNTIFS(Autorizacoes!$D$2:$D$371,$A18,Autorizacoes!$M$2:$M$371,"sem data") -> 0 | F18: =SUMIF(Autorizacoes!$D$2:$D$371,$A18,Autorizacoes!$N$2:$N$371) -> 0.55596038
A19: Instituto Chico Mendes de Conservação da Biodiversidade | B19: =COUNTIF(Autorizacoes!$D$2:$D$371,$A19) -> 1 | C19: =COUNTIFS(Autorizacoes!$D$2:$D$371,$A19,Autorizacoes!$M$2:$M$371,"vigente") -> 0 | D19: =COUNTIFS(Autorizacoes!$D$2:$D$371,$A19,Autorizacoes!$M$2:$M$371,"vencida") -> 1 | E19: =COUNTIFS(Autorizacoes!$D$2:$D$371,$A19,Autorizacoes!$M$2:$M$371,"sem data") -> 0 | F19: =SUMIF(Autorizacoes!$D$2:$D$371,$A19,Autorizacoes!$N$2:$N$371) -> 17960.354
A20: Total | B20: =SUM(B16:B19) -> 370 | C20: =SUM(C16:C19) -> 146 | D20: =SUM(D16:D19) -> 221 | E20: =SUM(E16:E19) -> 3 | F20: =SUM(F16:F19) -> 1012066.4
A23: Autorizações por município
A24: Município | B24: Autorizações | C24: Vigentes | D24: Vencidas | E24: Sem data | F24: Área (ha)
A25: ACRELANDIA | B25: =COUNTIF(Autorizacoes!$E$2:$E$371,$A25) -> 9 | C25: =COUNTIFS(Autorizacoes!$E$2:$E$371,$A25,Autorizacoes!$M$2:$M$371,"vigente") -> 3 | D25: =COUNTIFS(Autorizacoes!$E$2:$E$371,$A25,Autorizacoes!$M$2:$M$371,"vencida") -> 6 | E25: =COUNTIFS(Autorizacoes!$E$2:$E$371,$A25,Autorizacoes!$M$2:$M$371,"sem data") -> 0 | F25: =SUMIF(Autorizacoes!$E$2:$E$371,$A25,Autorizacoes!$N$2:$N$371) -> 9370.0219
A26: ASSIS BRASIL | B26: =COUNTIF(Autorizacoes!$E$2:$E$371,$A26) -> 2 | C26: =COUNTIFS(Autorizacoes!$E$2:$E$371,$A26,Autorizacoes!$M$2:$M$371,"vigente") -> 2 | D26: =COUNTIFS(Autorizacoes!$E$2:$E$371,$A26,Autorizacoes!$M$2:$M$371,"vencida") -> 0 | E26: =COUNTIFS(Autorizacoes!$E$2:$E$371,$A26,Autorizacoes!$M$2:$M$371,"sem data") -> 0 | F26: =SUMIF(Autorizacoes!$E$2:$E$371,$A26,Autorizacoes!$N$2:$N$371) -> 21504.346
A27: BRASILEIA | B27: =COUNTIF(Autorizacoes!$E$2:$E$371,$A27) -> 5 | C27: =COUNTIFS(Autorizacoes!$E$2:$E$371,$A27,Autorizacoes!$M$2:$M$371,"vigente") -> 2 | D27: =COUNTIFS(Autorizacoes!$E$2:$E$371,$A27,Autorizacoes!$M$2:$M$371,"vencida") -> 3 | E27: =COUNTIFS(Autorizacoes!$E$2:$E$371,$A27,Autorizacoes!$M$2:$M$371,"sem data") -> 0 | F27: =SUMIF(Autorizacoes!$E$2:$E$371,$A27,Autorizacoes!$N$2:$N$371) -> 2156.3805
A28: BUJARI | B28: =COUNTIF(Autorizacoes!$E$2:$E$371,$A28) -> 25 | C28: =COUNTIFS(Autorizacoes!$E$2:$E$371,$A28,Autorizacoes!$M$2:$M$371,"vigente") -> 10 | D28: =COUNTIFS(Autorizacoes!$E$2:$E$371,$A28,Autorizacoes!$M$2:$M$371,"vencida") -> 15 | E28: =COUNTIFS(Autorizacoes!$E$2:$E$371,$A28,Autorizacoes!$M$2:$M$371,"sem data") -> 0 | F28: =SUMIF(Autorizacoes!$E$2:$E$371,$A28,Autorizacoes!$N$2:$N$371) -> 47105.75
A29: CAPIXABA | B29: =COUNTIF(Autorizacoes!$E$2:$E$371,$A29) -> 14 | C29: =COUNTIFS(Autorizacoes!$E$2:$E$371,$A29,Autorizacoes!$M$2:$M$371,"vigente") -> 6 | D29: =COUNTIFS(Autorizacoes!$E$2:$E$371,$A29,Autorizacoes!$M$2:$M$371,"vencida") -> 8 | E29: =COUNTIFS(Autorizacoes!$E$2:$E$371,$A29,Autorizacoes!$M$2:$M$371,"sem data") -> 0 | F29: =SUMIF(Autorizacoes!$E$2:$E$371,$A29,Autorizacoes!$N$2:$N$371) -> 4404.3781
A30: CRUZEIRO DO SUL | B30: =COUNTIF(Autorizacoes!$E$2:$E$371,$A30) -> 9 | C30: =COUNTIFS(Autorizacoes!$E$2:$E$371,$A30,Autorizacoes!$M$2:$M$371,"vigente") -> 4 | D30: =COUNTIFS(Autorizacoes!$E$2:$E$371,$A30,Autorizacoes!$M$2:$M$371,"vencida") -> 5 | E30: =COUNTIFS(Autorizacoes!$E$2:$E$371,$A30,Autorizacoes!$M$2:$M$371,"sem data") -> 0 | F30: =SUMIF(Autorizacoes!$E$2:$E$371,$A30,Autorizacoes!$N$2:$N$371) -> 2598.0412
A31: EPITACIOLANDIA | B31: =COUNTIF(Autorizacoes!$E$2:$E$371,$A31) -> 3 | C31: =COUNTIFS(Autorizacoes!$E$2:$E$371,$A31,Autorizacoes!$M$2:$M$371,"vigente") -> 1 | D31: =COUNTIFS(Autorizacoes!$E$2:$E$371,$A31,Autorizacoes!$M$2:$M$371,"vencida") -> 2 | E31: =COUNTIFS(Autorizacoes!$E$2:$E$371,$A31,Autorizacoes!$M$2:$M$371,"sem data") -> 0 | F31: =SUMIF(Autorizacoes!$E$2:$E$371,$A31,Autorizacoes!$N$2:$N$371) -> 1363.4215
A32: FEIJO | B32: =COUNTIF(Autorizacoes!$E$2:$E$371,$A32) -> 89 | C32: =COUNTIFS(Autorizacoes!$E$2:$E$371,$A32,Autorizacoes!$M$2:$M$371,"vigente") -> 38 | D32: =COUNTIFS(Autorizacoes!$E$2:$E$371,$A32,Autorizacoes!$M$2:$M$371,"vencida") -> 50 | E32: =COUNTIFS(Autorizacoes!$E$2:$E$371,$A32,Autorizacoes!$M$2:$M$371,"sem data") -> 1 | F32: =SUMIF(Autorizacoes!$E$2:$E$371,$A32,Autorizacoes!$N$2:$N$371) -> 337749.26
A33: MANCIO LIMA | B33: =COUNTIF(Autorizacoes!$E$2:$E$371,$A33) -> 6 | C33: =COUNTIFS(Autorizacoes!$E$2:$E$371,$A33,Autorizacoes!$M$2:$M$371,"vigente") -> 3 | D33: =COUNTIFS(Autorizacoes!$E$2:$E$371,$A33,Autorizacoes!$M$2:$M$371,"vencida") -> 3 | E33: =COUNTIFS(Autorizacoes!$E$2:$E$371,$A33,Autorizacoes!$M$2:$M$371,"sem data") -> 0 | F33: =SUMIF(Autorizacoes!$E$2:$E$371,$A33,Autorizacoes!$N$2:$N$371) -> 4395.8894
A34: MANOEL URBANO | B34: =COUNTIF(Autorizacoes!$E$2:$E$371,$A34) -> 12 | C34: =COUNTIFS(Autorizacoes!$E$2:$E$371,$A34,Autorizacoes!$M$2:$M$371,"vigente") -> 2 | D34: =COUNTIFS(Autorizacoes!$E$2:$E$371,$A34,Autorizacoes!$M$2:$M$371,"vencida") -> 9 | E34: =COUNTIFS(Autorizacoes!$E$2:$E$371,$A34,Autorizacoes!$M$2:$M$371,"sem data") -> 1 | F34: =SUMIF(Autorizacoes!$E$2:$E$371,$A34,Autorizacoes!$N$2:$N$371) -> 225116.84
A35: PLACIDO DE CASTRO | B35: =COUNTIF(Autorizacoes!$E$2:$E$371,$A35) -> 3 | C35: =COUNTIFS(Autorizacoes!$E$2:$E$371,$A35,Autorizacoes!$M$2:$M$371,"vigente") -> 0 | D35: =COUNTIFS(Autorizacoes!$E$2:$E$371,$A35,Autorizacoes!$M$2:$M$371,"vencida") -> 3 | E35: =COUNTIFS(Autorizacoes!$E$2:$E$371,$A35,Autorizacoes!$M$2:$M$371,"sem data") -> 0 | F35: =SUMIF(Autorizacoes!$E$2:$E$371,$A35,Autorizacoes!$N$2:$N$371) -> 1354.5297
A36: PORTO ACRE | B36: =COUNTIF(Autorizacoes!$E$2:$E$371,$A36) -> 23 | C36: =COUNTIFS(Autorizacoes!$E$2:$E$371,$A36,Autorizacoes!$M$2:$M$371,"vigente") -> 8 | D36: =COUNTIFS(Autorizacoes!$E$2:$E$371,$A36,Autorizacoes!$M$2:$M$371,"vencida") -> 15 | E36: =COUNTIFS(Autorizacoes!$E$2:$E$371,$A36,Autorizacoes!$M$2:$M$371,"sem data") -> 0 | F36: =SUMIF(Autorizacoes!$E$2:$E$371,$A36,Autorizacoes!$N$2:$N$371) -> 34456.717
... A43: XAPURI | B43: =COUNTIF(Autorizacoes!$E$2:$E$371,$A43) -> 5 | C43: =COUNTIFS(Autorizacoes!$E$2:$E$371,$A43,Autorizacoes!$M$2:$M$371,"vigente") -> 1 | D43: =COUNTIFS(Autorizacoes!$E$2:$E$371,$A43,Autorizacoes!$M$2:$M$371,"vencida") -> 4 | E43: =COUNTIFS(Autorizacoes!$E$2:$E$371,$A43,Autorizacoes!$M$2:$M$371,"sem data") -> 0 | F43: =SUMIF(Autorizacoes!$E$2:$E$371,$A43,Autorizacoes!$N$2:$N$371) -> 28632.613
A44: Total | B44: =SUM(B25:B43) -> 370 | C44: =SUM(C25:C43) -> 146 | D44: =SUM(D25:D43) -> 221 | E44: =SUM(E25:E43) -> 3 | F44: =SUM(F25:F43) -> 1012066.4
A46: A soma das áreas pode contar mais de uma vez a mesma área quando há polígonos sobrepostos (por exemplo, POA dentro da área do PMFS).
A47: Vigência: calculada pela data final de validade em relação à data de referência (B3); não considera suspensão, cancelamento ou prorrogação posterior à cópia.

Sheet Autorizacoes
A1: Nº do recibo | B1: Nº da autorização | C1: Atividade | D1: Órgão emissor | E1: Município | F1: Tipo de empreendimento | G1: Empreendimento | H1: Detentor (mascarado no SINAFLOR) | I1: CPF/CNPJ (mascarado no SINAFLOR) | J1: Início da validade | K1: Fim da validade | L1: Situação no SINAFLOR | M1: Vigência | N1: Área (ha) | O1: CAR do imóvel | P1: Bioma | Q1: UC federal sobreposta | R1: UC estadual sobreposta | S1: Terra indígena sobreposta | T1: ART do responsável técnico | U1: Latitude | V1: Longitude
A2: 21218317 | B2: 20128202278937 | C2: Autorização de Supressão de Vegetação - ASV | D2: INSTITUTO DE MEIO AMBIENTE DO ACRE | E2: ACRELANDIA | F2: Rural | G2: LDAT 69 KV Iquiry/Acrelândia | H2: E******A A**E - D***********A DE E*****A S*A | I2: 04.***.***/****-70 | J2: 44789 | K2: 46250 | L2: Autorização Emitida | M2: =IF(K2="","sem data",IF(K2>=Resumo!$B$3,"vigente","vencida")) -> vencida | N2: 15.822068 | P2: Amazônia | T2: 20210057987 | U2: -10.059158 | V2: -67.327571
A3: 21218350 | B3: 20128202302480 | C3: Autorização de Supressão de Vegetação - ASV | D3: INSTITUTO DE MEIO AMBIENTE DO ACRE | E3: ACRELANDIA | F3: Rural | G3: Fazenda Redenção | H3: A*****O F******O J***E R*****O DE C******O M******O | I3: 20*.***.*00 | J3: 44974 | K3: 46435 | L3: Autorização Emitida | M3: =IF(K3="","sem data",IF(K3>=Resumo!$B$3,"vigente","vencida")) -> vigente | N3: 131.19454 | P3: Amazônia | T3: 20220080041 | U3: -9.995835 | V3: -67.024228
A4: 21218349 | B4: 20128202302474 | C4: Autorização de Supressão de Vegetação - ASV | D4: INSTITUTO DE MEIO AMBIENTE DO ACRE | E4: BUJARI | F4: Rural | G4: Fazenda Ouro Verde | H4: M***O L***O L********I S****N | I4: 43*.***.*68 | J4: 45002 | K4: 46463 | L4: Autorização Emitida | M4: =IF(K4="","sem data",IF(K4>=Resumo!$B$3,"vigente","vencida")) -> vigente | N4: 315.96527 | P4: Amazônia | T4: 20220078965 | U4: -9.876575 | V4: -68.295657
A5: 21218321 | B5: 20128202278939 | C5: Autorização de Supressão de Vegetação - ASV | D5: INSTITUTO DE MEIO AMBIENTE DO ACRE | E5: CRUZEIRO DO SUL | F5: Rural | G5: LDAT Cruzeiro do Sul / Juruá | H5: E******A A**E - D***********A DE E*****A S*A | I5: 04.***.***/****-70 | J5: 44848 | K5: 46309 | L5: Autorização Emitida | M5: =IF(K5="","sem data",IF(K5>=Resumo!$B$3,"vigente","vencida")) -> vigente | N5: 9.9173448 | P5: Amazônia | T5: 20210057987 | U5: -7.646465 | V5: -72.667336
A6: 10118897 | B6: 10128202303681 | C6: Autorização de Supressão de Vegetação - ASV | D6: Superintendência do Ibama no Estado do Acre - AC | E6: CRUZEIRO DO SUL | F6: Rural | G6: Linha de Transmissão 230Kv Feijó - Cruzeiro do Sul | H6: T**********A A**E S*E S**. | I6: 36.***.***/****-65 | J6: 45072 | K6: 45803 | L6: Autorização Emitida | M6: =IF(K6="","sem data",IF(K6>=Resumo!$B$3,"vigente","vencida")) -> vencida | N6: 0.034492163 | P6: Amazônia | R6: RIO LIBERDADE | T6: 202300590 | U6: -7.826595 | V6: -71.921857
A7: 21218397 | B7: 20128202434392 | C7: Autorização de Supressão de Vegetação - ASV | D7: INSTITUTO DE MEIO AMBIENTE DO ACRE | E7: CRUZEIRO DO SUL | F7: Urbano | H7: C************A D*S A********S DA A******A S*A | I7: 42.***.***/****-14 | J7: 45323 | K7: 46054 | L7: Autorização Emitida | M7: =IF(K7="","sem data",IF(K7>=Resumo!$B$3,"vigente","vencida")) -> vencida | N7: 1.1113131 | P7: Amazônia | U7: -7.600686 | V7: -72.779705
A8: 21218354 | B8: 20128202403956 | C8: Autorização de Supressão de Vegetação - ASV | D8: INSTITUTO DE MEIO AMBIENTE DO ACRE | E8: CRUZEIRO DO SUL | F8: Rural | G8: Construção de Extensão de Rede de Média Tensão entre os Municípios Cruzeiro do Sul e Mâncio Lima | H8: E******A A**E - D***********A DE E*****A S*A | I8: 04.***.***/****-70 | J8: 45386 | K8: 46847 | L8: Autorização Emitida | M8: =IF(K8="","sem data",IF(K8>=Resumo!$B$3,"vigente","vencida")) -> vigente | N8: 2330.4178 | P8: Amazônia | R8: ÁREA DE RELEVANTE INTERESSE ECOLÓGICO JAPIIM PENTECOSTE | T8: 20220074160 | U8: -7.624508 | V8: -72.880394
A9: 21218398 | B9: 20128202434666 | C9: Autorização de Supressão de Vegetação - ASV | D9: INSTITUTO DE MEIO AMBIENTE DO ACRE | E9: CRUZEIRO DO SUL | F9: Rural | G9: LDAT Cruzeiro do Sul / Juruá | H9: E******A A**E - D***********A DE E*****A S*A | I9: 04.***.***/****-70 | J9: 45453 | K9: 46183 | L9: Autorização Emitida | M9: =IF(K9="","sem data",IF(K9>=Resumo!$B$3,"vigente","vencida")) -> vencida | N9: 27.291988 | P9: Amazônia | T9: 20230089767 | U9: -7.656067 | V9: -72.643653
A10: 21218447 | B10: 20128202455623 | C10: Autorização de Supressão de Vegetação - ASV | D10: INSTITUTO DE MEIO AMBIENTE DO ACRE | E10: CRUZEIRO DO SUL | F10: Rural | G10: LDAT Cruzeiro do Sul / Juruá | H10: E******A A**E - D***********A DE E*****A S*A | I10: 04.***.***/****-70 | J10: 45587 | K10: 47048 | L10: Autorização Emitida | M10: =IF(K10="","sem data",IF(K10>=Resumo!$B$3,"vigente","vencida")) -> vigente | N10: 27.775259 | P10: Amazônia | T10: 20220076049 | U10: -7.657415 | V10: -72.64658
A11: 21218450 | B11: 20128202458721 | C11: Autorização de Supressão de Vegetação - ASV | D11: INSTITUTO DE MEIO AMBIENTE DO ACRE | E11: CRUZEIRO DO SUL | F11: Rural | G11: Rede de Distribuição de Baixa Tensão- Cruzeiro do Sul | H11: E******A A**E - D***********A DE E*****A S*A | I11: 04.***.***/****-70 | J11: 45644 | K11: 46374 | L11: Autorização Emitida | M11: =IF(K11="","sem data",IF(K11>=Resumo!$B$3,"vigente","vencida")) -> vigente | N11: 1.2636518 | P11: Amazônia | T11: 20240107571 | U11: -7.725047 | V11: -72.62035
A12: 21200085 | B12: 20129202014716 | C12: Autorização de Supressão de Vegetação - ASV | D12: INSTITUTO DE MEIO AMBIENTE DO ACRE | E12: FEIJO | F12: Rural | G12: DERACRE-RAMAL JOAQUIM SOUZA | H12: D**********O DE E******S DO E****O DO A**E | I12: 04.***.***/****-06 | J12: 43999 | L12: Autorização Emitida | M12: =IF(K12="","sem data",IF(K12>=Resumo!$B$3,"vigente","vencida")) -> sem data | N12: 162.18183 | P12: Amazônia | T12: 20190041703 | U12: -8.042531 | V12: -70.09389
A13: 21218315 | B13: 20128202278199 | C13: Autorização de Supressão de Vegetação - ASV | D13: INSTITUTO DE MEIO AMBIENTE DO ACRE | E13: FEIJO | F13: Rural | G13: FAZENDA FOZ DO JURUPARI i | H13: L*****O G***S DA S***A | I13: 84*.***.*34 | J13: 44796 | K13: 46257 | L13: Autorização Emitida | M13: =IF(K13="","sem data",IF(K13>=Resumo!$B$3,"vigente","vencida")) -> vencida | N13: 10624.126 | P13: Amazônia | T13: 20220071422 | U13: -8.436117 | V13: -69.953257
A14: 21218322 | B14: 20128202278935 | C14: Autorização de Supressão de Vegetação - ASV | D14: INSTITUTO DE MEIO AMBIENTE DO ACRE | E14: FEIJO | F14: Rural | G14: LDAT 69 KV Feijó/Envira | H14: E******A A**E - D***********A DE E*****A S*A | I14: 04.***.***/****-70 | J14: 44916 | K14: 46377 | L14: Autorização Emitida | M14: =IF(K14="","sem data",IF(K14>=Resumo!$B$3,"vigente","vencida")) -> vigente | N14: 2.3264334 | P14: Amazônia | T14: 20210057987 | U14: -8.194175 | V14: -70.530226
A15: 21218431 | B15: 20128202547430 | C15: Autorização de Supressão de Vegetação - ASV | D15: INSTITUTO DE MEIO AMBIENTE DO ACRE | E15: FEIJO | F15: Rural | G15: FAZENDA FOZ DO JURUPARY 3 e 4 | H15: L A G***S L**A | I15: 24.***.***/****-10 | J15: 45691 | K15: 47152 | L15: Autorização Emitida | M15: =IF(K15="","sem data",IF(K15>=Resumo!$B$3,"vigente","vencida")) -> vigente | N15: 976.68853 | P15: Amazônia | T15: 20230086390 | U15: -8.330805 | V15: -69.729964
A16: 21200166 | B16: 20129202028754 | C16: Autorização de Supressão de Vegetação - ASV | D16: INSTITUTO DE MEIO AMBIENTE DO ACRE | E16: MANOEL URBANO | F16: Rural | G16: Desmate Fazenda Conquista | H16: L******O C****A DE S***A | I16: 21*.***.*48 | J16: 44098 | L16: Autorização Emitida | M16: =IF(K16="","sem data",IF(K16>=Resumo!$B$3,"vigente","vencida")) -> sem data | N16: 4195.5759 | O16: AC-1200344-AA62DCD9691F42FBAB48377148AA6B2F | P16: Amazônia | T16: 20200049593 | U16: -8.816102 | V16: -69.083836
A17: 21215523 | B17: 20129202155263 | C17: Autorização de Supressão de Vegetação - ASV | D17: INSTITUTO DE MEIO AMBIENTE DO ACRE | E17: MANOEL URBANO | F17: Rural | G17: Desmate Fazenda Barcelona | H17: M*****E L*****T B*****A DE H*****A | I17: 47*.***.*00 | J17: 44545 | K17: 46006 | L17: Autorização Emitida | M17: =IF(K17="","sem data",IF(K17>=Resumo!$B$3,"vigente","vencida")) -> vencida | N17: 274.67858 | P17: Amazônia | T17: 20210065188 | U17: -8.930643 | V17: -69.108117
A18: 21200066 | B18: 20129201910845 | C18: Autorização de Supressão de Vegetação - ASV | D18: INSTITUTO DE MEIO AMBIENTE DO ACRE | E18: RIO BRANCO | F18: Urbano | G18: Terras Alphaville Rio Branco | H18: B P E*************S S*E E****I | I18: 21.***.***/****-69 | J18: 43692 | L18: Autorização Emitida | M18: =IF(K18="","sem data",IF(K18>=Resumo!$B$3,"vigente","vencida")) -> sem data | N18: 0.15209207 | P18: Amazônia | T18: 20190040799 | U18: -9.929406 | V18: -67.888047
A19: 21200106 | B19: 20129202022489 | C19: Autorização de Supressão de Vegetação - ASV | D19: INSTITUTO DE MEIO AMBIENTE DO ACRE | E19: RIO BRANCO | F19: Urbano | G19: LOTE SOB MATRICULA 19.974 | H19: I*Ê E************S I**********S L**A | I19: 04.***.***/****-63 | J19: 44125 | K19: 44490 | L19: Autorização Emitida | M19: =IF(K19="","sem data",IF(K19>=Resumo!$B$3,"vigente","vencida")) -> vencida | N19: 8.7489122 | P19: Amazônia | T19: 20200047315 | U19: -9.988333 | V19: -67.860324
A20: 21200108 | B20: 20129202022490 | C20: Autorização de Supressão de Vegetação - ASV | D20: INSTITUTO DE MEIO AMBIENTE DO ACRE | E20: RIO BRANCO | F20: Urbano | G20: LOTE SOB MATRICULA 60.164 | H20: I*Ê E************S I**********S L**A | I20: 04.***.***/****-63 | J20: 44125 | K20: 44490 | L20: Autorização Emitida | M20: =IF(K20="","sem data",IF(K20>=Resumo!$B$3,"vigente","vencida")) -> vencida | N20: 23.928504 | P20: Amazônia | T20: 20200047314 | U20: -9.99471 | V20: -67.85569
A21: 21200163 | B21: 20129202028449 | C21: Autorização de Supressão de Vegetação - ASV | D21: INSTITUTO DE MEIO AMBIENTE DO ACRE | E21: RIO BRANCO | F21: Rural | G21: ASV faixa de servidão da linha de transmissão e Substaçoes | H21: T**********A A**E S*E S**. | I21: 36.***.***/****-65 | J21: 44166 | K21: 45627 | L21: Autorização Emitida | M21: =IF(K21="","sem data",IF(K21>=Resumo!$B$3,"vigente","vencida")) -> vencida | N21: 1544.342 | P21: Amazônia | T21: 20200049457 | U21: -9.116203 | V21: -68.673287
A22: 21200199 | B22: 20129202032435 | C22: Autorização de Supressão de Vegetação - ASV | D22: INSTITUTO DE MEIO AMBIENTE DO ACRE | E22: RIO BRANCO | F22: Urbano | G22: Supressão Hipermercado Assaí Atacadista | H22: A****O E*************S L**A | I22: 05.***.***/****-30 | J22: 44176 | K22: 45637 | L22: Autorização Emitida | M22: =IF(K22="","sem data",IF(K22>=Resumo!$B$3,"vigente","vencida")) -> vencida | N22: 2.9899714 | O22: AC-1200401-22E56FA40FFA470EBB4EE905EFBC3506 | P22: Amazônia | T22: 20200051598 | U22: -9.983775 | V22: -67.847288
A23: 21200135 | B23: 20128202225245 | C23: Autorização de Supressão de Vegetação - ASV | D23: INSTITUTO DE MEIO AMBIENTE DO ACRE | E23: RIO BRANCO | F23: Rural | G23: CHÁCARA REIS | H23: J**E E*****O DE M***A L***E | I23: 52*.***.*04 | J23: 44670 | K23: 46131 | L23: Autorização Emitida | M23: =IF(K23="","sem data",IF(K23>=Resumo!$B$3,"vigente","vencida")) -> vencida | N23: 4.3427775 | P23: Amazônia | T23: 20200047944 | U23: -10.019439 | V23: -67.817217
A24: 21218304 | B24: 20128202276754 | C24: Autorização de Supressão de Vegetação - ASV | D24: INSTITUTO DE MEIO AMBIENTE DO ACRE | E24: RIO BRANCO | F24: Rural | G24: Subestação Tucumã | H24: E*P T*********O N***E S**. | I24: 43.***.***/****-61 | J24: 44746 | K24: 46207 | L24: Autorização Emitida | M24: =IF(K24="","sem data",IF(K24>=Resumo!$B$3,"vigente","vencida")) -> vencida | N24: 4.130344 | P24: Amazônia | T24: 27230220630207 | U24: -10.043614 | V24: -67.935601
A25: 21218305 | B25: 20128202276758 | C25: Autorização de Supressão de Vegetação - ASV | D25: INSTITUTO DE MEIO AMBIENTE DO ACRE | E25: RIO BRANCO | F25: Rural | G25: Trecho de Linha de Transmissão que perfaz o seccionamento da LT 230 kV Abunã ¿ Rio Branco I C2, na SE Tucumã | H25: E*P T*********O N***E S**. | I25: 43.***.***/****-61 | J25: 44750 | K25: 46211 | L25: Autorização Emitida | M25: =IF(K25="","sem data",IF(K25>=Resumo!$B$3,"vigente","vencida")) -> vencida | N25: 35.91295 | P25: Amazônia | T25: 27230220630207 | U25: -10.054063 | V25: -67.920949
A26: 21218318 | B26: 20128202278933 | C26: Autorização de Supressão de Vegetação - ASV | D26: INSTITUTO DE MEIO AMBIENTE DO ACRE | E26: RIO BRANCO | F26: Urbano | G26: LDAT 69 kV SE Rio Branco/SE Floresta | H26: E******A A**E - D***********A DE E*****A S*A | I26: 04.***.***/****-70 | J26: 44789 | K26: 46250 | L26: Autorização Emitida | M26: =IF(K26="","sem data",IF(K26>=Resumo!$B$3,"vigente","vencida")) -> vencida | N26: 5.7106932 | P26: Amazônia | T26: 20210057987 | U26: -10.026506 | V26: -67.827357
A27: 21218319 | B27: 20128202278938 | C27: Autorização de Supressão de Vegetação - ASV | D27: INSTITUTO DE MEIO AMBIENTE DO ACRE | E27: RIO BRANCO | F27: Rural | G27: LDAT 69 KV Tangará/Alto Alegre | H27: E******A A**E - D***********A DE E*****A S*A | I27: 04.***.***/****-70 | J27: 44789 | K27: 46250 | L27: Autorização Emitida | M27: =IF(K27="","sem data",IF(K27>=Resumo!$B$3,"vigente","vencida")) -> vencida | N27: 28.629627 | P27: Amazônia | T27: 20210057987 | U27: -9.933632 | V27: -67.884001
A28: 10118805 | B28: 10128202294473 | C28: Autorização de Supressão de Vegetação - ASV | D28: Superintendência do Ibama no Estado do Acre - AC | E28: RIO BRANCO | F28: Rural | G28: Linha de Transmissão 230 kV Subestação Abunã - Subestação Rio Branco I C3 | H28: E*P T*********O N***E S**. | I28: 43.***.***/****-61 | J28: 44869 | K28: 45600 | L28: Autorização Emitida | M28: =IF(K28="","sem data",IF(K28>=Resumo!$B$3,"vigente","vencida")) -> vencida | N28: 287.72168 | P28: Amazônia | R28: FLORSU DO RIO ABUNA | T28: 27230221447349 | U28: -9.877364 | V28: -66.918118
A29: 10118924 | B29: 10128202308390 | C29: Autorização de Supressão de Vegetação - ASV | D29: Superintendência do Ibama no Estado do Acre - AC | E29: RIO BRANCO | F29: Rural | G29: Linha de Transmissão 230 kV Subestação Abunã - Subestação Rio Branco I C3 | H29: E*P T*********O N***E S**. | I29: 43.***.***/****-61 | J29: 44995 | K29: 45726 | L29: Autorização Emitida | M29: =IF(K29="","sem data",IF(K29>=Resumo!$B$3,"vigente","vencida")) -> vencida | N29: 287.64783 | P29: Amazônia | R29: FLORSU DO RIO ABUNA | T29: 27230221447349 | U29: -9.877367 | V29: -66.918112
A30: 21218343 | B30: 20128202396767 | C30: Autorização de Supressão de Vegetação - ASV | D30: INSTITUTO DE MEIO AMBIENTE DO ACRE | E30: RIO BRANCO | F30: Urbano | G30: LDAT 69 KV BAY SE TUCUMA/BAY SE FLORESTA | H30: E******A A**E - D***********A DE E*****A S*A | I30: 04.***.***/****-70 | J30: 45125 | K30: 46586 | L30: Autorização Emitida | M30: =IF(K30="","sem data",IF(K30>=Resumo!$B$3,"vigente","vencida")) -> vigente | N30: 26.146624 | P30: Amazônia | T30: 20220076049 | U30: -10.019846 | V30: -67.905992
A31: 21218373 | B31: 20128202315151 | C31: Autorização de Supressão de Vegetação - ASV | D31: INSTITUTO DE MEIO AMBIENTE DO ACRE | E31: RIO BRANCO | F31: Urbano | G31: UNIVERSIDADE FEDERAL DO ACRE | H31: U**********E F*****L DO A**E | I31: 04.***.***/****-37 | J31: 45180 | K31: 46641 | L31: Autorização Emitida | M31: =IF(K31="","sem data",IF(K31>=Resumo!$B$3,"vigente","vencida")) -> vigente | N31: 2.024722 | P31: Amazônia | T31: 20230084846 | U31: -9.961248 | V31: -67.862728
A32: 21218344 | B32: 20128202396769 | C32: Autorização de Supressão de Vegetação - ASV | D32: INSTITUTO DE MEIO AMBIENTE DO ACRE | E32: RIO BRANCO | F32: Urbano | G32: LDAT 69 KV BAY SE TUCUMA/BAY SE TANGARA | H32: E******A A**E - D***********A DE E*****A S*A | I32: 04.***.***/****-70 | J32: 45218 | K32: 45949 | L32: Autorização Emitida | M32: =IF(K32="","sem data",IF(K32>=Resumo!$B$3,"vigente","vencida")) -> vencida | N32: 35.462876 | P32: Amazônia | T32: 20220076049 | U32: -9.996327 | V32: -67.901642
A33: 10119084 | B33: 10128202325204 | C33: Autorização de Supressão de Vegetação - ASV | D33: Superintendência do Ibama no Estado do Acre - AC | E33: RIO BRANCO | F33: Rural | G33: - Linha de Transmissão 230 kV Subestação Abunã - Subestação Rio Branco I C3 | H33: E*P T*********O N***E S**. | I33: 43.***.***/****-61 | J33: 45243 | K33: 45974 | L33: Autorização Emitida | M33: =IF(K33="","sem data",IF(K33>=Resumo!$B$3,"vigente","vencida")) -> vencida | N33: 287.61565 | P33: Amazônia | R33: FLORSU DO RIO ABUNA | T33: 27230221447349 | U33: -9.877367 | V33: -66.918112
A34: 21218353 | B34: 20128202302503 | C34: Autorização de Supressão de Vegetação - ASV | D34: INSTITUTO DE MEIO AMBIENTE DO ACRE | E34: RIO BRANCO | F34: Urbano | G34: Aeroporto Internacional de Rio Branco - Plácido de Castro | H34: C************A D*S A********S DA A******A S*A | I34: 42.***.***/****-71 | J34: 45272 | K34: 46733 | L34: Autorização Emitida | M34: =IF(K34="","sem data",IF(K34>=Resumo!$B$3,"vigente","vencida")) -> vigente | N34: 2.7285394 | P34: Amazônia | T34: 20220078812 | U34: -9.866485 | V34: -67.887822
A35: 21218434 | B35: 20128202448049 | C35: Autorização de Supressão de Vegetação - ASV | D35: INSTITUTO DE MEIO AMBIENTE DO ACRE | E35: RIO BRANCO | F35: Rural | G35: Fazenda União III | H35: F*****A U***O L**A | I35: 34.***.***/****-26 | J35: 45513 | K35: 46243 | L35: Autorização Emitida | M35: =IF(K35="","sem data",IF(K35>=Resumo!$B$3,"vigente","vencida")) -> vencida | N35: 885.2106 | P35: Amazônia | T35: 20240100860 | U35: -10.159207 | V35: -68.188527
A36: 21218489 | B36: 20128202696321 | C36: Autorização de Supressão de Vegetação - ASV | D36: INSTITUTO DE MEIO AMBIENTE DO ACRE | E36: RIO BRANCO | F36: Urbano | H36: S********A DE E****O DE O***S P******S | I36: 03.***.***/****-05 | J36: 46080 | K36: 46445 | L36: Autorização Emitida | M36: =IF(K36="","sem data",IF(K36>=Resumo!$B$3,"vigente","vencida")) -> vigente | N36: 1.803661 | P36: Amazônia | U36: -9.988892 | V36: -67.813657
A37: 21218496 | B37: 20128202693516 | C37: Autorização de Supressão de Vegetação - ASV | D37: INSTITUTO DE MEIO AMBIENTE DO ACRE | E37: RIO BRANCO | F37: Urbano | G37: EXECUÇÃO DA PONTE SOBRE O RIO ACRE, INTERLIGANDO O SEGUNDO DISTRIDO E A BAIXADA DA SOBRAL, RESPECTIVOS ACESSOS E ORDENAMENTO NO TRÂNSITO NO BAIRRO XV, COM EXTENSÃO DE 200M | H37: S********A DE E****O DE H*******O E U*******O - S****B | I37: 34.***.***/****-00 | J37: 46118 | K37: 46849 | L37: Autorização Emitida | M37: =IF(K37="","sem data",IF(K37>=Resumo!$B$3,"vigente","vencida")) -> vigente | N37: 2.0738582 | P37: Amazônia | T37: 20250124833 | U37: -9.988363 | V37: -67.819359
A38: 21218491 | B38: 20128202697490 | C38: Autorização de Supressão de Vegetação - ASV | D38: INSTITUTO DE MEIO AMBIENTE DO ACRE | E38: RIO BRANCO | F38: Urbano | H38: S********A DE E****O DE O***S P******S | I38: 03.***.***/****-05 | J38: 46134 | K38: 46865 | L38: Autorização Emitida | M38: =IF(K38="","sem data",IF(K38>=Resumo!$B$3,"vigente","vencida")) -> vigente | N38: 0.06683634 | P38: Amazônia | U38: -9.95245 | V38: -67.819097
A39: 21218495 | B39: 20128202698100 | C39: Autorização de Supressão de Vegetação - ASV | D39: INSTITUTO DE MEIO AMBIENTE DO ACRE | E39: RIO BRANCO | F39: Urbano | H39: S********A DE E****O DE O***S P******S | I39: 03.***.***/****-05 | J39: 46134 | K39: 46865 | L39: Autorização Emitida | M39: =IF(K39="","sem data",IF(K39>=Resumo!$B$3,"vigente","vencida")) -> vigente | N39: 0.040203139 | P39: Amazônia | U39: -10.028752 | V39: -67.796677
A40: 21218490 | B40: 20128202694881 | C40: Autorização de Supressão de Vegetação - ASV | D40: INSTITUTO DE MEIO AMBIENTE DO ACRE | E40: RIO BRANCO | F40: Rural | G40: RAMAL DOS PAULISTAS | H40: E******A A**E - D***********A DE E*****A S*A | I40: 04.***.***/****-70 | J40: 46191 | K40: 46922 | L40: Autorização Emitida | M40: =IF(K40="","sem data",IF(K40>=Resumo!$B$3,"vigente","vencida")) -> vigente | N40: 9.5923073 | P40: Amazônia | T40: 20170025860 | U40: -9.533102 | V40: -67.742045
...

Sheet Leia-me
A1: Leia-me
A3: Planilha | B3: Autorizações do SINAFLOR no Acre (todas as atividades)
A4: Fonte | B4: SINAFLOR/IBAMA — base pública de projetos autorizados (sinaflor_proj_externo_merge_a), cópia de 05/09/2026
A5: Recorte | B5: Unidade da federação = AC; 370 autorizações, todas com situação "Autorização Emitida" no SINAFLOR
A6: Abas | B6: Resumo (totais por atividade, órgão emissor e município, com fórmulas) e Autorizacoes (uma linha por autorização)
A7: Vigência | B7: Calculada na planilha pela data final de validade e pela data de referência da aba Resumo (célula B3, 01/10/2026)
A8: Dados pessoais | B8: Nome do detentor e CPF/CNPJ já vêm mascarados no próprio SINAFLOR e foram mantidos como publicados
A9: Área (ha) | B9: Área do polígono informada no SINAFLOR (campo area_pamgi)
A10: Latitude e longitude | B10: Ponto interno do polígono, em graus decimais, SIRGAS 2000 (calculado pelo IMAC)
A11: Arquivos vetoriais | B11: Um shapefile por atividade na mesma página: ASV, Exploração de Floresta Plantada, PMFS/POA e Uso Alternativo do Solo
A12: Responsável | B12: Instituto de Meio Ambiente do Acre (IMAC)
