Workbook

Sheet Resumo
A1: Autorizações do SINAFLOR no Acre — resumo
A2: Fonte: SINAFLOR/IBAMA, base pública de projetos autorizados, cópia de 05/09/2026, recorte uf = AC.
A3: Data de referência da vigência | B3: 46296
A5: Autorizações por atividade
A6: Atividade | B6: Autorizações | C6: Vigentes | D6: Vencidas | E6: Sem data | F6: Área (ha)
A7: Autorização de Supressão de Vegetação - ASV | B7: =COUNTIF(Autorizacoes!$C$2:$C$371,$A7) -> 47 | C7: =COUNTIFS(Autorizacoes!$C$2:$C$371,$A7,Autorizacoes!$M$2:$M$371,"vigente") -> 20 | D7: =COUNTIFS(Autorizacoes!$C$2:$C$371,$A7,Autorizacoes!$M$2:$M$371,"vencida") -> 24 | E7: =COUNTIFS(Autorizacoes!$C$2:$C$371,$A7,Autorizacoes!$M$2:$M$371,"sem data") -> 3 | F7: =SUMIF(Autorizacoes!$C$2:$C$371,$A7,Autorizacoes!$N$2:$N$371) -> 23552.041
A8: Exploração de Floresta Plantada | B8: =COUNTIF(Autorizacoes!$C$2:$C$371,$A8) -> 1 | C8: =COUNTIFS(Autorizacoes!$C$2:$C$371,$A8,Autorizacoes!$M$2:$M$371,"vigente") -> 0 | D8: =COUNTIFS(Autorizacoes!$C$2:$C$371,$A8,Autorizacoes!$M$2:$M$371,"vencida") -> 1 | E8: =COUNTIFS(Autorizacoes!$C$2:$C$371,$A8,Autorizacoes!$M$2:$M$371,"sem data") -> 0 | F8: =SUMIF(Autorizacoes!$C$2:$C$371,$A8,Autorizacoes!$N$2:$N$371) -> 1.3671207
A9: PMFS/POA | B9: =COUNTIF(Autorizacoes!$C$2:$C$371,$A9) -> 246 | C9: =COUNTIFS(Autorizacoes!$C$2:$C$371,$A9,Autorizacoes!$M$2:$M$371,"vigente") -> 97 | D9: =COUNTIFS(Autorizacoes!$C$2:$C$371,$A9,Autorizacoes!$M$2:$M$371,"vencida") -> 149 | E9: =COUNTIFS(Autorizacoes!$C$2:$C$371,$A9,Autorizacoes!$M$2:$M$371,"sem data") -> 0 | F9: =SUMIF(Autorizacoes!$C$2:$C$371,$A9,Autorizacoes!$N$2:$N$371) -> 954689.03
A10: Uso Alternativo do Solo | B10: =COUNTIF(Autorizacoes!$C$2:$C$371,$A10) -> 76 | C10: =COUNTIFS(Autorizacoes!$C$2:$C$371,$A10,Autorizacoes!$M$2:$M$371,"vigente") -> 29 | D10: =COUNTIFS(Autorizacoes!$C$2:$C$371,$A10,Autorizacoes!$M$2:$M$371,"vencida") -> 47 | E10: =COUNTIFS(Autorizacoes!$C$2:$C$371,$A10,Autorizacoes!$M$2:$M$371,"sem data") -> 0 | F10: =SUMIF(Autorizacoes!$C$2:$C$371,$A10,Autorizacoes!$N$2:$N$371) -> 33824.016
A11: Total | B11: =SUM(B7:B10) -> 370 | C11: =SUM(C7:C10) -> 146 | D11: =SUM(D7:D10) -> 221 | E11: =SUM(E7:E10) -> 3 | F11: =SUM(F7:F10) -> 1012066.4
A14: Autorizações por órgão emissor
A15: Órgão emissor | B15: Autorizações | C15: Vigentes | D15: Vencidas | E15: Sem data | F15: Área (ha)
A16: INSTITUTO DE MEIO AMBIENTE DO ACRE | B16: =COUNTIF(Autorizacoes!$D$2:$D$371,$A16) -> 354 | C16: =COUNTIFS(Autorizacoes!$D$2:$D$371,$A16,Autorizacoes!$M$2:$M$371,"vigente") -> 143 | D16: =COUNTIFS(Autorizacoes!$D$2:$D$371,$A16,Autorizacoes!$M$2:$M$371,"vencida") -> 208 | E16: =COUNTIFS(Autorizacoes!$D$2:$D$371,$A16,Autorizacoes!$M$2:$M$371,"sem data") -> 3 | F16: =SUMIF(Autorizacoes!$D$2:$D$371,$A16,Autorizacoes!$N$2:$N$371) -> 764514.84
A17: Superintendência do Ibama no Estado do Acre - AC | B17: =COUNTIF(Autorizacoes!$D$2:$D$371,$A17) -> 14 | C17: =COUNTIFS(Autorizacoes!$D$2:$D$371,$A17,Autorizacoes!$M$2:$M$371,"vigente") -> 3 | D17: =COUNTIFS(Autorizacoes!$D$2:$D$371,$A17,Autorizacoes!$M$2:$M$371,"vencida") -> 11 | E17: =COUNTIFS(Autorizacoes!$D$2:$D$371,$A17,Autorizacoes!$M$2:$M$371,"sem data") -> 0 | F17: =SUMIF(Autorizacoes!$D$2:$D$371,$A17,Autorizacoes!$N$2:$N$371) -> 229590.7
A18: Serviço de Regularização Ambiental | B18: =COUNTIF(Autorizacoes!$D$2:$D$371,$A18) -> 1 | C18: =COUNTIFS(Autorizacoes!$D$2:$D$371,$A18,Autorizacoes!$M$2:$M$371,"vigente") -> 0 | D18: =COUNTIFS(Autorizacoes!$D$2:$D$371,$A18,Autorizacoes!$M$2:$M$371,"vencida") -> 1 | E18: =COUNTIFS(Autorizacoes!$D$2:$D$371,$A18,Autorizacoes!$M$2:$M$371,"sem data") -> 0 | F18: =SUMIF(Autorizacoes!$D$2:$D$371,$A18,Autorizacoes!$N$2:$N$371) -> 0.55596038
A19: Instituto Chico Mendes de Conservação da Biodiversidade | B19: =COUNTIF(Autorizacoes!$D$2:$D$371,$A19) -> 1 | C19: =COUNTIFS(Autorizacoes!$D$2:$D$371,$A19,Autorizacoes!$M$2:$M$371,"vigente") -> 0 | D19: =COUNTIFS(Autorizacoes!$D$2:$D$371,$A19,Autorizacoes!$M$2:$M$371,"vencida") -> 1 | E19: =COUNTIFS(Autorizacoes!$D$2:$D$371,$A19,Autorizacoes!$M$2:$M$371,"sem data") -> 0 | F19: =SUMIF(Autorizacoes!$D$2:$D$371,$A19,Autorizacoes!$N$2:$N$371) -> 17960.354
A20: Total | B20: =SUM(B16:B19) -> 370 | C20: =SUM(C16:C19) -> 146 | D20: =SUM(D16:D19) -> 221 | E20: =SUM(E16:E19) -> 3 | F20: =SUM(F16:F19) -> 1012066.4
A23: Autorizações por município
A24: Município | B24: Autorizações | C24: Vigentes | D24: Vencidas | E24: Sem data | F24: Área (ha)
A25: ACRELANDIA | B25: =COUNTIF(Autorizacoes!$E$2:$E$371,$A25) -> 9 | C25: =COUNTIFS(Autorizacoes!$E$2:$E$371,$A25,Autorizacoes!$M$2:$M$371,"vigente") -> 3 | D25: =COUNTIFS(Autorizacoes!$E$2:$E$371,$A25,Autorizacoes!$M$2:$M$371,"vencida") -> 6 | E25: =COUNTIFS(Autorizacoes!$E$2:$E$371,$A25,Autorizacoes!$M$2:$M$371,"sem data") -> 0 | F25: =SUMIF(Autorizacoes!$E$2:$E$371,$A25,Autorizacoes!$N$2:$N$371) -> 9370.0219
A26: ASSIS BRASIL | B26: =COUNTIF(Autorizacoes!$E$2:$E$371,$A26) -> 2 | C26: =COUNTIFS(Autorizacoes!$E$2:$E$371,$A26,Autorizacoes!$M$2:$M$371,"vigente") -> 2 | D26: =COUNTIFS(Autorizacoes!$E$2:$E$371,$A26,Autorizacoes!$M$2:$M$371,"vencida") -> 0 | E26: =COUNTIFS(Autorizacoes!$E$2:$E$371,$A26,Autorizacoes!$M$2:$M$371,"sem data") -> 0 | F26: =SUMIF(Autorizacoes!$E$2:$E$371,$A26,Autorizacoes!$N$2:$N$371) -> 21504.346
A27: BRASILEIA | B27: =COUNTIF(Autorizacoes!$E$2:$E$371,$A27) -> 5 | C27: =COUNTIFS(Autorizacoes!$E$2:$E$371,$A27,Autorizacoes!$M$2:$M$371,"vigente") -> 2 | D27: =COUNTIFS(Autorizacoes!$E$2:$E$371,$A27,Autorizacoes!$M$2:$M$371,"vencida") -> 3 | E27: =COUNTIFS(Autorizacoes!$E$2:$E$371,$A27,Autorizacoes!$M$2:$M$371,"sem data") -> 0 | F27: =SUMIF(Autorizacoes!$E$2:$E$371,$A27,Autorizacoes!$N$2:$N$371) -> 2156.3805
A28: BUJARI | B28: =COUNTIF(Autorizacoes!$E$2:$E$371,$A28) -> 25 | C28: =COUNTIFS(Autorizacoes!$E$2:$E$371,$A28,Autorizacoes!$M$2:$M$371,"vigente") -> 10 | D28: =COUNTIFS(Autorizacoes!$E$2:$E$371,$A28,Autorizacoes!$M$2:$M$371,"vencida") -> 15 | E28: =COUNTIFS(Autorizacoes!$E$2:$E$371,$A28,Autorizacoes!$M$2:$M$371,"sem data") -> 0 | F28: =SUMIF(Autorizacoes!$E$2:$E$371,$A28,Autorizacoes!$N$2:$N$371) -> 47105.75
A29: CAPIXABA | B29: =COUNTIF(Autorizacoes!$E$2:$E$371,$A29) -> 14 | C29: =COUNTIFS(Autorizacoes!$E$2:$E$371,$A29,Autorizacoes!$M$2:$M$371,"vigente") -> 6 | D29: =COUNTIFS(Autorizacoes!$E$2:$E$371,$A29,Autorizacoes!$M$2:$M$371,"vencida") -> 8 | E29: =COUNTIFS(Autorizacoes!$E$2:$E$371,$A29,Autorizacoes!$M$2:$M$371,"sem data") -> 0 | F29: =SUMIF(Autorizacoes!$E$2:$E$371,$A29,Autorizacoes!$N$2:$N$371) -> 4404.3781
A30: CRUZEIRO DO SUL | B30: =COUNTIF(Autorizacoes!$E$2:$E$371,$A30) -> 9 | C30: =COUNTIFS(Autorizacoes!$E$2:$E$371,$A30,Autorizacoes!$M$2:$M$371,"vigente") -> 4 | D30: =COUNTIFS(Autorizacoes!$E$2:$E$371,$A30,Autorizacoes!$M$2:$M$371,"vencida") -> 5 | E30: =COUNTIFS(Autorizacoes!$E$2:$E$371,$A30,Autorizacoes!$M$2:$M$371,"sem data") -> 0 | F30: =SUMIF(Autorizacoes!$E$2:$E$371,$A30,Autorizacoes!$N$2:$N$371) -> 2598.0412
A31: EPITACIOLANDIA | B31: =COUNTIF(Autorizacoes!$E$2:$E$371,$A31) -> 3 | C31: =COUNTIFS(Autorizacoes!$E$2:$E$371,$A31,Autorizacoes!$M$2:$M$371,"vigente") -> 1 | D31: =COUNTIFS(Autorizacoes!$E$2:$E$371,$A31,Autorizacoes!$M$2:$M$371,"vencida") -> 2 | E31: =COUNTIFS(Autorizacoes!$E$2:$E$371,$A31,Autorizacoes!$M$2:$M$371,"sem data") -> 0 | F31: =SUMIF(Autorizacoes!$E$2:$E$371,$A31,Autorizacoes!$N$2:$N$371) -> 1363.4215
A32: FEIJO | B32: =COUNTIF(Autorizacoes!$E$2:$E$371,$A32) -> 89 | C32: =COUNTIFS(Autorizacoes!$E$2:$E$371,$A32,Autorizacoes!$M$2:$M$371,"vigente") -> 38 | D32: =COUNTIFS(Autorizacoes!$E$2:$E$371,$A32,Autorizacoes!$M$2:$M$371,"vencida") -> 50 | E32: =COUNTIFS(Autorizacoes!$E$2:$E$371,$A32,Autorizacoes!$M$2:$M$371,"sem data") -> 1 | F32: =SUMIF(Autorizacoes!$E$2:$E$371,$A32,Autorizacoes!$N$2:$N$371) -> 337749.26
A33: MANCIO LIMA | B33: =COUNTIF(Autorizacoes!$E$2:$E$371,$A33) -> 6 | C33: =COUNTIFS(Autorizacoes!$E$2:$E$371,$A33,Autorizacoes!$M$2:$M$371,"vigente") -> 3 | D33: =COUNTIFS(Autorizacoes!$E$2:$E$371,$A33,Autorizacoes!$M$2:$M$371,"vencida") -> 3 | E33: =COUNTIFS(Autorizacoes!$E$2:$E$371,$A33,Autorizacoes!$M$2:$M$371,"sem data") -> 0 | F33: =SUMIF(Autorizacoes!$E$2:$E$371,$A33,Autorizacoes!$N$2:$N$371) -> 4395.8894
A34: MANOEL URBANO | B34: =COUNTIF(Autorizacoes!$E$2:$E$371,$A34) -> 12 | C34: =COUNTIFS(Autorizacoes!$E$2:$E$371,$A34,Autorizacoes!$M$2:$M$371,"vigente") -> 2 | D34: =COUNTIFS(Autorizacoes!$E$2:$E$371,$A34,Autorizacoes!$M$2:$M$371,"vencida") -> 9 | E34: =COUNTIFS(Autorizacoes!$E$2:$E$371,$A34,Autorizacoes!$M$2:$M$371,"sem data") -> 1 | F34: =SUMIF(Autorizacoes!$E$2:$E$371,$A34,Autorizacoes!$N$2:$N$371) -> 225116.84
A35: PLACIDO DE CASTRO | B35: =COUNTIF(Autorizacoes!$E$2:$E$371,$A35) -> 3 | C35: =COUNTIFS(Autorizacoes!$E$2:$E$371,$A35,Autorizacoes!$M$2:$M$371,"vigente") -> 0 | D35: =COUNTIFS(Autorizacoes!$E$2:$E$371,$A35,Autorizacoes!$M$2:$M$371,"vencida") -> 3 | E35: =COUNTIFS(Autorizacoes!$E$2:$E$371,$A35,Autorizacoes!$M$2:$M$371,"sem data") -> 0 | F35: =SUMIF(Autorizacoes!$E$2:$E$371,$A35,Autorizacoes!$N$2:$N$371) -> 1354.5297
A36: PORTO ACRE | B36: =COUNTIF(Autorizacoes!$E$2:$E$371,$A36) -> 23 | C36: =COUNTIFS(Autorizacoes!$E$2:$E$371,$A36,Autorizacoes!$M$2:$M$371,"vigente") -> 8 | D36: =COUNTIFS(Autorizacoes!$E$2:$E$371,$A36,Autorizacoes!$M$2:$M$371,"vencida") -> 15 | E36: =COUNTIFS(Autorizacoes!$E$2:$E$371,$A36,Autorizacoes!$M$2:$M$371,"sem data") -> 0 | F36: =SUMIF(Autorizacoes!$E$2:$E$371,$A36,Autorizacoes!$N$2:$N$371) -> 34456.717
... A43: XAPURI | B43: =COUNTIF(Autorizacoes!$E$2:$E$371,$A43) -> 5 | C43: =COUNTIFS(Autorizacoes!$E$2:$E$371,$A43,Autorizacoes!$M$2:$M$371,"vigente") -> 1 | D43: =COUNTIFS(Autorizacoes!$E$2:$E$371,$A43,Autorizacoes!$M$2:$M$371,"vencida") -> 4 | E43: =COUNTIFS(Autorizacoes!$E$2:$E$371,$A43,Autorizacoes!$M$2:$M$371,"sem data") -> 0 | F43: =SUMIF(Autorizacoes!$E$2:$E$371,$A43,Autorizacoes!$N$2:$N$371) -> 28632.613
A44: Total | B44: =SUM(B25:B43) -> 370 | C44: =SUM(C25:C43) -> 146 | D44: =SUM(D25:D43) -> 221 | E44: =SUM(E25:E43) -> 3 | F44: =SUM(F25:F43) -> 1012066.4
A46: A soma das áreas pode contar mais de uma vez a mesma área quando há polígonos sobrepostos (por exemplo, POA dentro da área do PMFS).
A47: Vigência: calculada pela data final de validade em relação à data de referência (B3); não considera suspensão, cancelamento ou prorrogação posterior à cópia.

Sheet Autorizacoes
A1: Nº do recibo | B1: Nº da autorização | C1: Atividade | D1: Órgão emissor | E1: Município | F1: Tipo de empreendimento | G1: Empreendimento | H1: Detentor (mascarado no SINAFLOR) | I1: CPF/CNPJ (mascarado no SINAFLOR) | J1: Início da validade | K1: Fim da validade | L1: Situação no SINAFLOR | M1: Vigência | N1: Área (ha) | O1: CAR do imóvel | P1: Bioma | Q1: UC federal sobreposta | R1: UC estadual sobreposta | S1: Terra indígena sobreposta | T1: ART do responsável técnico | U1: Latitude | V1: Longitude
A2: 21218317 | B2: 20128202278937 | C2: Autorização de Supressão de Vegetação - ASV | D2: INSTITUTO DE MEIO AMBIENTE DO ACRE | E2: ACRELANDIA | F2: Rural | G2: LDAT 69 KV Iquiry/Acrelândia | H2: E******A A**E - D***********A DE E*****A S*A | I2: 04.***.***/****-70 | J2: 44789 | K2: 46250 | L2: Autorização Emitida | M2: =IF(K2="","sem data",IF(K2>=Resumo!$B$3,"vigente","vencida")) -> vencida | N2: 15.822068 | P2: Amazônia | T2: 20210057987 | U2: -10.059158 | V2: -67.327571
A3: 21218350 | B3: 20128202302480 | C3: Autorização de Supressão de Vegetação - ASV | D3: INSTITUTO DE MEIO AMBIENTE DO ACRE | E3: ACRELANDIA | F3: Rural | G3: Fazenda Redenção | H3: A*****O F******O J***E R*****O DE C******O M******O | I3: 20*.***.*00 | J3: 44974 | K3: 46435 | L3: Autorização Emitida | M3: =IF(K3="","sem data",IF(K3>=Resumo!$B$3,"vigente","vencida")) -> vigente | N3: 131.19454 | P3: Amazônia | T3: 20220080041 | U3: -9.995835 | V3: -67.024228
A4: 21218349 | B4: 20128202302474 | C4: Autorização de Supressão de Vegetação - ASV | D4: INSTITUTO DE MEIO AMBIENTE DO ACRE | E4: BUJARI | F4: Rural | G4: Fazenda Ouro Verde | H4: M***O L***O L********I S****N | I4: 43*.***.*68 | J4: 45002 | K4: 46463 | L4: Autorização Emitida | M4: =IF(K4="","sem data",IF(K4>=Resumo!$B$3,"vigente","vencida")) -> vigente | N4: 315.96527 | P4: Amazônia | T4: 20220078965 | U4: -9.876575 | V4: -68.295657
A5: 21218321 | B5: 20128202278939 | C5: Autorização de Supressão de Vegetação - ASV | D5: INSTITUTO DE MEIO AMBIENTE DO ACRE | E5: CRUZEIRO DO SUL | F5: Rural | G5: LDAT Cruzeiro do Sul / Juruá | H5: E******A A**E - D***********A DE E*****A S*A | I5: 04.***.***/****-70 | J5: 44848 | K5: 46309 | L5: Autorização Emitida | M5: =IF(K5="","sem data",IF(K5>=Resumo!$B$3,"vigente","vencida")) -> vigente | N5: 9.9173448 | P5: Amazônia | T5: 20210057987 | U5: -7.646465 | V5: -72.667336
A6: 10118897 | B6: 10128202303681 | C6: Autorização de Supressão de Vegetação - ASV | D6: Superintendência do Ibama no Estado do Acre - AC | E6: CRUZEIRO DO SUL | F6: Rural | G6: Linha de Transmissão 230Kv Feijó - Cruzeiro do Sul | H6: T**********A A**E S*E S**. | I6: 36.***.***/****-65 | J6: 45072 | K6: 45803 | L6: Autorização Emitida | M6: =IF(K6="","sem data",IF(K6>=Resumo!$B$3,"vigente","vencida")) -> vencida | N6: 0.034492163 | P6: Amazônia | R6: RIO LIBERDADE | T6: 202300590 | U6: -7.826595 | V6: -71.921857
A7: 21218397 | B7: 20128202434392 | C7: Autorização de Supressão de Vegetação - ASV | D7: INSTITUTO DE MEIO AMBIENTE DO ACRE | E7: CRUZEIRO DO SUL | F7: Urbano | H7: C************A D*S A********S DA A******A S*A | I7: 42.***.***/****-14 | J7: 45323 | K7: 46054 | L7: Autorização Emitida | M7: =IF(K7="","sem data",IF(K7>=Resumo!$B$3,"vigente","vencida")) -> vencida | N7: 1.1113131 | P7: Amazônia | U7: -7.600686 | V7: -72.779705
A8: 21218354 | B8: 20128202403956 | C8: Autorização de Supressão de Vegetação - ASV | D8: INSTITUTO DE MEIO AMBIENTE DO ACRE | E8: CRUZEIRO DO SUL | F8: Rural | G8: Construção de Extensão de Rede de Média Tensão entre os Municípios Cruzeiro do Sul e Mâncio Lima | H8: E******A A**E - D***********A DE E*****A S*A | I8: 04.***.***/****-70 | J8: 45386 | K8: 46847 | L8: Autorização Emitida | M8: =IF(K8="","sem data",IF(K8>=Resumo!$B$3,"vigente","vencida")) -> vigente | N8: 2330.4178 | P8: Amazônia | R8: ÁREA DE RELEVANTE INTERESSE ECOLÓGICO JAPIIM PENTECOSTE | T8: 20220074160 | U8: -7.624508 | V8: -72.880394
A9: 21218398 | B9: 20128202434666 | C9: Autorização de Supressão de Vegetação - ASV | D9: INSTITUTO DE MEIO AMBIENTE DO ACRE | E9: CRUZEIRO DO SUL | F9: Rural | G9: LDAT Cruzeiro do Sul / Juruá | H9: E******A A**E - D***********A DE E*****A S*A | I9: 04.***.***/****-70 | J9: 45453 | K9: 46183 | L9: Autorização Emitida | M9: =IF(K9="","sem data",IF(K9>=Resumo!$B$3,"vigente","vencida")) -> vencida | N9: 27.291988 | P9: Amazônia | T9: 20230089767 | U9: -7.656067 | V9: -72.643653
A10: 21218447 | B10: 20128202455623 | C10: Autorização de Supressão de Vegetação - ASV | D10: INSTITUTO DE MEIO AMBIENTE DO ACRE | E10: CRUZEIRO DO SUL | F10: Rural | G10: LDAT Cruzeiro do Sul / Juruá | H10: E******A A**E - D***********A DE E*****A S*A | I10: 04.***.***/****-70 | J10: 45587 | K10: 47048 | L10: Autorização Emitida | M10: =IF(K10="","sem data",IF(K10>=Resumo!$B$3,"vigente","vencida")) -> vigente | N10: 27.775259 | P10: Amazônia | T10: 20220076049 | U10: -7.657415 | V10: -72.64658
A11: 21218450 | B11: 20128202458721 | C11: Autorização de Supressão de Vegetação - ASV | D11: INSTITUTO DE MEIO AMBIENTE DO ACRE | E11: CRUZEIRO DO SUL | F11: Rural | G11: Rede de Distribuição de Baixa Tensão- Cruzeiro do Sul | H11: E******A A**E - D***********A DE E*****A S*A | I11: 04.***.***/****-70 | J11: 45644 | K11: 46374 | L11: Autorização Emitida | M11: =IF(K11="","sem data",IF(K11>=Resumo!$B$3,"vigente","vencida")) -> vigente | N11: 1.2636518 | P11: Amazônia | T11: 20240107571 | U11: -7.725047 | V11: -72.62035
A12: 21200085 | B12: 20129202014716 | C12: Autorização de Supressão de Vegetação - ASV | D12: INSTITUTO DE MEIO AMBIENTE DO ACRE | E12: FEIJO | F12: Rural | G12: DERACRE-RAMAL JOAQUIM SOUZA | H12: D**********O DE E******S DO E****O DO A**E | I12: 04.***.***/****-06 | J12: 43999 | L12: Autorização Emitida | M12: =IF(K12="","sem data",IF(K12>=Resumo!$B$3,"vigente","vencida")) -> sem data | N12: 162.18183 | P12: Amazônia | T12: 20190041703 | U12: -8.042531 | V12: -70.09389
A13: 21218315 | B13: 20128202278199 | C13: Autorização de Supressão de Vegetação - ASV | D13: INSTITUTO DE MEIO AMBIENTE DO ACRE | E13: FEIJO | F13: Rural | G13: FAZENDA FOZ DO JURUPARI i | H13: L*****O G***S DA S***A | I13: 84*.***.*34 | J13: 44796 | K13: 46257 | L13: Autorização Emitida | M13: =IF(K13="","sem data",IF(K13>=Resumo!$B$3,"vigente","vencida")) -> vencida | N13: 10624.126 | P13: Amazônia | T13: 20220071422 | U13: -8.436117 | V13: -69.953257
A14: 21218322 | B14: 20128202278935 | C14: Autorização de Supressão de Vegetação - ASV | D14: INSTITUTO DE MEIO AMBIENTE DO ACRE | E14: FEIJO | F14: Rural | G14: LDAT 69 KV Feijó/Envira | H14: E******A A**E - D***********A DE E*****A S*A | I14: 04.***.***/****-70 | J14: 44916 | K14: 46377 | L14: Autorização Emitida | M14: =IF(K14="","sem data",IF(K14>=Resumo!$B$3,"vigente","vencida")) -> vigente | N14: 2.3264334 | P14: Amazônia | T14: 20210057987 | U14: -8.194175 | V14: -70.530226
A15: 21218431 | B15: 20128202547430 | C15: Autorização de Supressão de Vegetação - ASV | D15: INSTITUTO DE MEIO AMBIENTE DO ACRE | E15: FEIJO | F15: Rural | G15: FAZENDA FOZ DO JURUPARY 3 e 4 | H15: L A G***S L**A | I15: 24.***.***/****-10 | J15: 45691 | K15: 47152 | L15: Autorização Emitida | M15: =IF(K15="","sem data",IF(K15>=Resumo!$B$3,"vigente","vencida")) -> vigente | N15: 976.68853 | P15: Amazônia | T15: 20230086390 | U15: -8.330805 | V15: -69.729964
A16: 21200166 | B16: 20129202028754 | C16: Autorização de Supressão de Vegetação - ASV | D16: INSTITUTO DE MEIO AMBIENTE DO ACRE | E16: MANOEL URBANO | F16: Rural | G16: Desmate Fazenda Conquista | H16: L******O C****A DE S***A | I16: 21*.***.*48 | J16: 44098 | L16: Autorização Emitida | M16: =IF(K16="","sem data",IF(K16>=Resumo!$B$3,"vigente","vencida")) -> sem data | N16: 4195.5759 | O16: AC-1200344-AA62DCD9691F42FBAB48377148AA6B2F | P16: Amazônia | T16: 20200049593 | U16: -8.816102 | V16: -69.083836
A17: 21215523 | B17: 20129202155263 | C17: Autorização de Supressão de Vegetação - ASV | D17: INSTITUTO DE MEIO AMBIENTE DO ACRE | E17: MANOEL URBANO | F17: Rural | G17: Desmate Fazenda Barcelona | H17: M*****E L*****T B*****A DE H*****A | I17: 47*.***.*00 | J17: 44545 | K17: 46006 | L17: Autorização Emitida | M17: =IF(K17="","sem data",IF(K17>=Resumo!$B$3,"vigente","vencida")) -> vencida | N17: 274.67858 | P17: Amazônia | T17: 20210065188 | U17: -8.930643 | V17: -69.108117
A18: 21200066 | B18: 20129201910845 | C18: Autorização de Supressão de Vegetação - ASV | D18: INSTITUTO DE MEIO AMBIENTE DO ACRE | E18: RIO BRANCO | F18: Urbano | G18: Terras Alphaville Rio Branco | H18: B P E*************S S*E E****I | I18: 21.***.***/****-69 | J18: 43692 | L18: Autorização Emitida | M18: =IF(K18="","sem data",IF(K18>=Resumo!$B$3,"vigente","vencida")) -> sem data | N18: 0.15209207 | P18: Amazônia | T18: 20190040799 | U18: -9.929406 | V18: -67.888047
A19: 21200106 | B19: 20129202022489 | C19: Autorização de Supressão de Vegetação - ASV | D19: INSTITUTO DE MEIO AMBIENTE DO ACRE | E19: RIO BRANCO | F19: Urbano | G19: LOTE SOB MATRICULA 19.974 | H19: I*Ê E************S I**********S L**A | I19: 04.***.***/****-63 | J19: 44125 | K19: 44490 | L19: Autorização Emitida | M19: =IF(K19="","sem data",IF(K19>=Resumo!$B$3,"vigente","vencida")) -> vencida | N19: 8.7489122 | P19: Amazônia | T19: 20200047315 | U19: -9.988333 | V19: -67.860324
A20: 21200108 | B20: 20129202022490 | C20: Autorização de Supressão de Vegetação - ASV | D20: INSTITUTO DE MEIO AMBIENTE DO ACRE | E20: RIO BRANCO | F20: Urbano | G20: LOTE SOB MATRICULA 60.164 | H20: I*Ê E************S I**********S L**A | I20: 04.***.***/****-63 | J20: 44125 | K20: 44490 | L20: Autorização Emitida | M20: =IF(K20="","sem data",IF(K20>=Resumo!$B$3,"vigente","vencida")) -> vencida | N20: 23.928504 | P20: Amazônia | T20: 20200047314 | U20: -9.99471 | V20: -67.85569
A21: 21200163 | B21: 20129202028449 | C21: Autorização de Supressão de Vegetação - ASV | D21: INSTITUTO DE MEIO AMBIENTE DO ACRE | E21: RIO BRANCO | F21: Rural | G21: ASV faixa de servidão da linha de transmissão e Substaçoes | H21: T**********A A**E S*E S**. | I21: 36.***.***/****-65 | J21: 44166 | K21: 45627 | L21: Autorização Emitida | M21: =IF(K21="","sem data",IF(K21>=Resumo!$B$3,"vigente","vencida")) -> vencida | N21: 1544.342 | P21: Amazônia | T21: 20200049457 | U21: -9.116203 | V21: -68.673287
A22: 21200199 | B22: 20129202032435 | C22: Autorização de Supressão de Vegetação - ASV | D22: INSTITUTO DE MEIO AMBIENTE DO ACRE | E22: RIO BRANCO | F22: Urbano | G22: Supressão Hipermercado Assaí Atacadista | H22: A****O E*************S L**A | I22: 05.***.***/****-30 | J22: 44176 | K22: 45637 | L22: Autorização Emitida | M22: =IF(K22="","sem data",IF(K22>=Resumo!$B$3,"vigente","vencida")) -> vencida | N22: 2.9899714 | O22: AC-1200401-22E56FA40FFA470EBB4EE905EFBC3506 | P22: Amazônia | T22: 20200051598 | U22: -9.983775 | V22: -67.847288
A23: 21200135 | B23: 20128202225245 | C23: Autorização de Supressão de Vegetação - ASV | D23: INSTITUTO DE MEIO AMBIENTE DO ACRE | E23: RIO BRANCO | F23: Rural | G23: CHÁCARA REIS | H23: J**E E*****O DE M***A L***E | I23: 52*.***.*04 | J23: 44670 | K23: 46131 | L23: Autorização Emitida | M23: =IF(K23="","sem data",IF(K23>=Resumo!$B$3,"vigente","vencida")) -> vencida | N23: 4.3427775 | P23: Amazônia | T23: 20200047944 | U23: -10.019439 | V23: -67.817217
A24: 21218304 | B24: 20128202276754 | C24: Autorização de Supressão de Vegetação - ASV | D24: INSTITUTO DE MEIO AMBIENTE DO ACRE | E24: RIO BRANCO | F24: Rural | G24: Subestação Tucumã | H24: E*P T*********O N***E S**. | I24: 43.***.***/****-61 | J24: 44746 | K24: 46207 | L24: Autorização Emitida | M24: =IF(K24="","sem data",IF(K24>=Resumo!$B$3,"vigente","vencida")) -> vencida | N24: 4.130344 | P24: Amazônia | T24: 27230220630207 | U24: -10.043614 | V24: -67.935601
A25: 21218305 | B25: 20128202276758 | C25: Autorização de Supressão de Vegetação - ASV | D25: INSTITUTO DE MEIO AMBIENTE DO ACRE | E25: RIO BRANCO | F25: Rural | G25: Trecho de Linha de Transmissão que perfaz o seccionamento da LT 230 kV Abunã ¿ Rio Branco I C2, na SE Tucumã | H25: E*P T*********O N***E S**. | I25: 43.***.***/****-61 | J25: 44750 | K25: 46211 | L25: Autorização Emitida | M25: =IF(K25="","sem data",IF(K25>=Resumo!$B$3,"vigente","vencida")) -> vencida | N25: 35.91295 | P25: Amazônia | T25: 27230220630207 | U25: -10.054063 | V25: -67.920949
A26: 21218318 | B26: 20128202278933 | C26: Autorização de Supressão de Vegetação - ASV | D26: INSTITUTO DE MEIO AMBIENTE DO ACRE | E26: RIO BRANCO | F26: Urbano | G26: LDAT 69 kV SE Rio Branco/SE Floresta | H26: E******A A**E - D***********A DE E*****A S*A | I26: 04.***.***/****-70 | J26: 44789 | K26: 46250 | L26: Autorização Emitida | M26: =IF(K26="","sem data",IF(K26>=Resumo!$B$3,"vigente","vencida")) -> vencida | N26: 5.7106932 | P26: Amazônia | T26: 20210057987 | U26: -10.026506 | V26: -67.827357
A27: 21218319 | B27: 20128202278938 | C27: Autorização de Supressão de Vegetação - ASV | D27: INSTITUTO DE MEIO AMBIENTE DO ACRE | E27: RIO BRANCO | F27: Rural | G27: LDAT 69 KV Tangará/Alto Alegre | H27: E******A A**E - D***********A DE E*****A S*A | I27: 04.***.***/****-70 | J27: 44789 | K27: 46250 | L27: Autorização Emitida | M27: =IF(K27="","sem data",IF(K27>=Resumo!$B$3,"vigente","vencida")) -> vencida | N27: 28.629627 | P27: Amazônia | T27: 20210057987 | U27: -9.933632 | V27: -67.884001
A28: 10118805 | B28: 10128202294473 | C28: Autorização de Supressão de Vegetação - ASV | D28: Superintendência do Ibama no Estado do Acre - AC | E28: RIO BRANCO | F28: Rural | G28: Linha de Transmissão 230 kV Subestação Abunã - Subestação Rio Branco I C3 | H28: E*P T*********O N***E S**. | I28: 43.***.***/****-61 | J28: 44869 | K28: 45600 | L28: Autorização Emitida | M28: =IF(K28="","sem data",IF(K28>=Resumo!$B$3,"vigente","vencida")) -> vencida | N28: 287.72168 | P28: Amazônia | R28: FLORSU DO RIO ABUNA | T28: 27230221447349 | U28: -9.877364 | V28: -66.918118
A29: 10118924 | B29: 10128202308390 | C29: Autorização de Supressão de Vegetação - ASV | D29: Superintendência do Ibama no Estado do Acre - AC | E29: RIO BRANCO | F29: Rural | G29: Linha de Transmissão 230 kV Subestação Abunã - Subestação Rio Branco I C3 | H29: E*P T*********O N***E S**. | I29: 43.***.***/****-61 | J29: 44995 | K29: 45726 | L29: Autorização Emitida | M29: =IF(K29="","sem data",IF(K29>=Resumo!$B$3,"vigente","vencida")) -> vencida | N29: 287.64783 | P29: Amazônia | R29: FLORSU DO RIO ABUNA | T29: 27230221447349 | U29: -9.877367 | V29: -66.918112
A30: 21218343 | B30: 20128202396767 | C30: Autorização de Supressão de Vegetação - ASV | D30: INSTITUTO DE MEIO AMBIENTE DO ACRE | E30: RIO BRANCO | F30: Urbano | G30: LDAT 69 KV BAY SE TUCUMA/BAY SE FLORESTA | H30: E******A A**E - D***********A DE E*****A S*A | I30: 04.***.***/****-70 | J30: 45125 | K30: 46586 | L30: Autorização Emitida | M30: =IF(K30="","sem data",IF(K30>=Resumo!$B$3,"vigente","vencida")) -> vigente | N30: 26.146624 | P30: Amazônia | T30: 20220076049 | U30: -10.019846 | V30: -67.905992
A31: 21218373 | B31: 20128202315151 | C31: Autorização de Supressão de Vegetação - ASV | D31: INSTITUTO DE MEIO AMBIENTE DO ACRE | E31: RIO BRANCO | F31: Urbano | G31: UNIVERSIDADE FEDERAL DO ACRE | H31: U**********E F*****L DO A**E | I31: 04.***.***/****-37 | J31: 45180 | K31: 46641 | L31: Autorização Emitida | M31: =IF(K31="","sem data",IF(K31>=Resumo!$B$3,"vigente","vencida")) -> vigente | N31: 2.024722 | P31: Amazônia | T31: 20230084846 | U31: -9.961248 | V31: -67.862728
A32: 21218344 | B32: 20128202396769 | C32: Autorização de Supressão de Vegetação - ASV | D32: INSTITUTO DE MEIO AMBIENTE DO ACRE | E32: RIO BRANCO | F32: Urbano | G32: LDAT 69 KV BAY SE TUCUMA/BAY SE TANGARA | H32: E******A A**E - D***********A DE E*****A S*A | I32: 04.***.***/****-70 | J32: 45218 | K32: 45949 | L32: Autorização Emitida | M32: =IF(K32="","sem data",IF(K32>=Resumo!$B$3,"vigente","vencida")) -> vencida | N32: 35.462876 | P32: Amazônia | T32: 20220076049 | U32: -9.996327 | V32: -67.901642
A33: 10119084 | B33: 10128202325204 | C33: Autorização de Supressão de Vegetação - ASV | D33: Superintendência do Ibama no Estado do Acre - AC | E33: RIO BRANCO | F33: Rural | G33: - Linha de Transmissão 230 kV Subestação Abunã - Subestação Rio Branco I C3 | H33: E*P T*********O N***E S**. | I33: 43.***.***/****-61 | J33: 45243 | K33: 45974 | L33: Autorização Emitida | M33: =IF(K33="","sem data",IF(K33>=Resumo!$B$3,"vigente","vencida")) -> vencida | N33: 287.61565 | P33: Amazônia | R33: FLORSU DO RIO ABUNA | T33: 27230221447349 | U33: -9.877367 | V33: -66.918112
A34: 21218353 | B34: 20128202302503 | C34: Autorização de Supressão de Vegetação - ASV | D34: INSTITUTO DE MEIO AMBIENTE DO ACRE | E34: RIO BRANCO | F34: Urbano | G34: Aeroporto Internacional de Rio Branco - Plácido de Castro | H34: C************A D*S A********S DA A******A S*A | I34: 42.***.***/****-71 | J34: 45272 | K34: 46733 | L34: Autorização Emitida | M34: =IF(K34="","sem data",IF(K34>=Resumo!$B$3,"vigente","vencida")) -> vigente | N34: 2.7285394 | P34: Amazônia | T34: 20220078812 | U34: -9.866485 | V34: -67.887822
A35: 21218434 | B35: 20128202448049 | C35: Autorização de Supressão de Vegetação - ASV | D35: INSTITUTO DE MEIO AMBIENTE DO ACRE | E35: RIO BRANCO | F35: Rural | G35: Fazenda União III | H35: F*****A U***O L**A | I35: 34.***.***/****-26 | J35: 45513 | K35: 46243 | L35: Autorização Emitida | M35: =IF(K35="","sem data",IF(K35>=Resumo!$B$3,"vigente","vencida")) -> vencida | N35: 885.2106 | P35: Amazônia | T35: 20240100860 | U35: -10.159207 | V35: -68.188527
A36: 21218489 | B36: 20128202696321 | C36: Autorização de Supressão de Vegetação - ASV | D36: INSTITUTO DE MEIO AMBIENTE DO ACRE | E36: RIO BRANCO | F36: Urbano | H36: S********A DE E****O DE O***S P******S | I36: 03.***.***/****-05 | J36: 46080 | K36: 46445 | L36: Autorização Emitida | M36: =IF(K36="","sem data",IF(K36>=Resumo!$B$3,"vigente","vencida")) -> vigente | N36: 1.803661 | P36: Amazônia | U36: -9.988892 | V36: -67.813657
A37: 21218496 | B37: 20128202693516 | C37: Autorização de Supressão de Vegetação - ASV | D37: INSTITUTO DE MEIO AMBIENTE DO ACRE | E37: RIO BRANCO | F37: Urbano | G37: EXECUÇÃO DA PONTE SOBRE O RIO ACRE, INTERLIGANDO O SEGUNDO DISTRIDO E A BAIXADA DA SOBRAL, RESPECTIVOS ACESSOS E ORDENAMENTO NO TRÂNSITO NO BAIRRO XV, COM EXTENSÃO DE 200M | H37: S********A DE E****O DE H*******O E U*******O - S****B | I37: 34.***.***/****-00 | J37: 46118 | K37: 46849 | L37: Autorização Emitida | M37: =IF(K37="","sem data",IF(K37>=Resumo!$B$3,"vigente","vencida")) -> vigente | N37: 2.0738582 | P37: Amazônia | T37: 20250124833 | U37: -9.988363 | V37: -67.819359
A38: 21218491 | B38: 20128202697490 | C38: Autorização de Supressão de Vegetação - ASV | D38: INSTITUTO DE MEIO AMBIENTE DO ACRE | E38: RIO BRANCO | F38: Urbano | H38: S********A DE E****O DE O***S P******S | I38: 03.***.***/****-05 | J38: 46134 | K38: 46865 | L38: Autorização Emitida | M38: =IF(K38="","sem data",IF(K38>=Resumo!$B$3,"vigente","vencida")) -> vigente | N38: 0.06683634 | P38: Amazônia | U38: -9.95245 | V38: -67.819097
A39: 21218495 | B39: 20128202698100 | C39: Autorização de Supressão de Vegetação - ASV | D39: INSTITUTO DE MEIO AMBIENTE DO ACRE | E39: RIO BRANCO | F39: Urbano | H39: S********A DE E****O DE O***S P******S | I39: 03.***.***/****-05 | J39: 46134 | K39: 46865 | L39: Autorização Emitida | M39: =IF(K39="","sem data",IF(K39>=Resumo!$B$3,"vigente","vencida")) -> vigente | N39: 0.040203139 | P39: Amazônia | U39: -10.028752 | V39: -67.796677
A40: 21218490 | B40: 20128202694881 | C40: Autorização de Supressão de Vegetação - ASV | D40: INSTITUTO DE MEIO AMBIENTE DO ACRE | E40: RIO BRANCO | F40: Rural | G40: RAMAL DOS PAULISTAS | H40: E******A A**E - D***********A DE E*****A S*A | I40: 04.***.***/****-70 | J40: 46191 | K40: 46922 | L40: Autorização Emitida | M40: =IF(K40="","sem data",IF(K40>=Resumo!$B$3,"vigente","vencida")) -> vigente | N40: 9.5923073 | P40: Amazônia | T40: 20170025860 | U40: -9.533102 | V40: -67.742045
A41: 21218531 | B41: 20128202609095 | C41: Autorização de Supressão de Vegetação - ASV | D41: INSTITUTO DE MEIO AMBIENTE DO ACRE | E41: RIO BRANCO | F41: Rural | G41: LDAT 69 kV SE SENA MADUREIRA / SE MANOEL URBANO | H41: E******A A**E - D***********A DE E*****A S*A | I41: 04.***.***/****-70 | J41: 46247 | K41: 46978 | L41: Autorização Emitida | M41: =IF(K41="","sem data",IF(K41>=Resumo!$B$3,"vigente","vencida")) -> vigente | N41: 41.298055 | P41: Amazônia | T41: 20260133961 | U41: -8.830335 | V41: -69.274333
A42: 21200090 | B42: 20129202115714 | C42: Autorização de Supressão de Vegetação - ASV | D42: INSTITUTO DE MEIO AMBIENTE DO ACRE | E42: RODRIGUES ALVES | F42: Rural | G42: Ramal Barbary/Interligação | H42: D**********O DE E******S DO E****O DO A**E | I42: 04.***.***/****-06 | J42: 44379 | K42: 45840 | L42: Autorização Emitida | M42: =IF(K42="","sem data",IF(K42>=Resumo!$B$3,"vigente","vencida")) -> vencida | N42: 351.94298 | P42: Amazônia | S42: Jaminawa do Igarapé Preto | T42: 20190043426 | U42: -8.000806 | V42: -72.817886
A43: 21218334 | B43: 20128202389948 | C43: Autorização de Supressão de Vegetação - ASV | D43: INSTITUTO DE MEIO AMBIENTE DO ACRE | E43: SENA MADUREIRA | F43: Rural | G43: Fazenda Mineira | H43: M*****O DE A*****A S***A C******O | I43: 59*.***.*53 | J43: 45016 | K43: 46477 | L43: Autorização Emitida | M43: =IF(K43="","sem data",IF(K43>=Resumo!$B$3,"vigente","vencida")) -> vigente | N43: 541.32324 | P43: Amazônia | T43: 20220072851 | U43: -9.801432 | V43: -68.700141
A44: 21205381 | B44: 20129202135252 | C44: Autorização de Supressão de Vegetação - ASV | D44: INSTITUTO DE MEIO AMBIENTE DO ACRE | E44: SENADOR GUIOMARD | F44: Urbano | G44: AMAZON- LOTE-SOB MATRICULA 9071 | H44: N*****S S***A R**O | I44: 93*.***.*00 | J44: 44376 | K44: 45837 | L44: Autorização Emitida | M44: =IF(K44="","sem data",IF(K44>=Resumo!$B$3,"vigente","vencida")) -> vencida | N44: 2.7935662 | P44: Amazônia | T44: 20200053716 | U44: -10.113112 | V44: -67.759149
A45: 21218442 | B45: 20128202453209 | C45: Autorização de Supressão de Vegetação - ASV | D45: INSTITUTO DE MEIO AMBIENTE DO ACRE | E45: SENADOR GUIOMARD | F45: Urbano | G45: LOTE DE TERRA URBANO | H45: R. M. S***A L**A | I45: 26.***.***/****-08 | J45: 45587 | K45: 46317 | L45: Autorização Emitida | M45: =IF(K45="","sem data",IF(K45>=Resumo!$B$3,"vigente","vencida")) -> vigente | N45: 5.6693756 | P45: Amazônia | T45: 20240103744 | U45: -10.117099 | V45: -67.752977
A46: 10116033 | B46: 10539202154272 | C46: Autorização de Supressão de Vegetação - ASV | D46: Serviço de Regularização Ambiental | E46: TARAUACA | F46: Urbano | H46: D***************O N******L DE I******T DE T*********S | I46: 04.***.***/****-00 | J46: 44519 | K46: 44884 | L46: Autorização Emitida | M46: =IF(K46="","sem data",IF(K46>=Resumo!$B$3,"vigente","vencida")) -> vencida | N46: 0.55596038 | P46: Amazônia | U46: -8.152154 | V46: -70.745251
A47: 21218320 | B47: 20128202278936 | C47: Autorização de Supressão de Vegetação - ASV | D47: INSTITUTO DE MEIO AMBIENTE DO ACRE | E47: TARAUACA | F47: Rural | G47: LDAT 69 KV Feijó/Tarauacá | H47: E******A A**E - D***********A DE E*****A S*A | I47: 04.***.***/****-70 | J47: 44916 | K47: 46377 | L47: Autorização Emitida | M47: =IF(K47="","sem data",IF(K47>=Resumo!$B$3,"vigente","vencida")) -> vigente | N47: 6.0347164 | P47: Amazônia | T47: 20210057987 | U47: -8.191466 | V47: -70.569268
A48: 21218374 | B48: 20128202316535 | C48: Autorização de Supressão de Vegetação - ASV | D48: INSTITUTO DE MEIO AMBIENTE DO ACRE | E48: XAPURI | F48: Rural | G48: SUPRESSAO DO AERODROMO DE XAPURI | H48: D**********O DE E******S DO E****O DO A**E | I48: 04.***.***/****-06 | J48: 45141 | K48: 45507 | L48: Autorização Emitida | M48: =IF(K48="","sem data",IF(K48>=Resumo!$B$3,"vigente","vencida")) -> vencida | N48: 19.028225 | P48: Amazônia | T48: 20230085206 | U48: -10.663628 | V48: -68.485902
A49: 21200097 | B49: 20127202021350 | C49: Exploração de Floresta Plantada | D49: INSTITUTO DE MEIO AMBIENTE DO ACRE | E49: EPITACIOLANDIA | F49: Rural | G49: Paricá - Colônia Guaraciaba (Plantio) | H49: G. L. M***I | I49: 02.***.***/****-20 | J49: 43979 | K49: 44709 | L49: Autorização Emitida | M49: =IF(K49="","sem data",IF(K49>=Resumo!$B$3,"vigente","vencida")) -> vencida | N49: 1.3671207 | O49: AC-1200252-BFD72C288A5247C987F4888409D180A6 | P49: Amazônia | T49: 20190040483 | U49: -11.069054 | V49: -68.548584
A50: 21200026 | B50: 20122201907038 | C50: PMFS/POA | D50: INSTITUTO DE MEIO AMBIENTE DO ACRE | E50: ACRELANDIA | F50: Rural | G50: APAFPD - PMFSComunitario | H50: A*******S P*****A A************R DO P*E P***O D**S | I50: 14.***.***/****-83 | J50: 43643 | K50: 45470 | L50: Autorização Emitida | M50: =IF(K50="","sem data",IF(K50>=Resumo!$B$3,"vigente","vencida")) -> vencida | N50: 3594.3451 | P50: Amazônia | T50: 20190038219 | U50: -10.024497 | V50: -66.812764
A51: 21200194 | B51: 20122202027876 | C51: PMFS/POA | D51: INSTITUTO DE MEIO AMBIENTE DO ACRE | E51: ACRELANDIA | F51: Rural | H51: A*******S P*****A A************R DO P*E P***O D**S | I51: 14.***.***/****-83 | J51: 44090 | K51: 44820 | L51: Autorização Emitida | M51: =IF(K51="","sem data",IF(K51>=Resumo!$B$3,"vigente","vencida")) -> vencida | N51: 316.89462 | P51: Amazônia | U51: -9.983015 | V51: -66.840279
A52: 21216333 | B52: 20122202257188 | C52: PMFS/POA | D52: INSTITUTO DE MEIO AMBIENTE DO ACRE | E52: ACRELANDIA | F52: Rural | H52: A*******S P*****A A************R DO P*E P***O D**S | I52: 14.***.***/****-83 | J52: 44753 | K52: 45484 | L52: Autorização Emitida | M52: =IF(K52="","sem data",IF(K52>=Resumo!$B$3,"vigente","vencida")) -> vencida | N52: 316.72748 | P52: Amazônia | U52: -9.976245 | V52: -66.82008
A53: 21218260 | B53: 20122202368933 | C53: PMFS/POA | D53: INSTITUTO DE MEIO AMBIENTE DO ACRE | E53: ACRELANDIA | F53: Rural | G53: COLÔNIA GONÇALVES | H53: L*****O M*******O | I53: 65*.***.*34 | J53: 45063 | K53: 46890 | L53: Autorização Emitida | M53: =IF(K53="","sem data",IF(K53>=Resumo!$B$3,"vigente","vencida")) -> vigente | N53: 52.182483 | P53: Amazônia | T53: 20210066171 | U53: -9.826012 | V53: -67.01188
A54: 21218262 | B54: 20122202369460 | C54: PMFS/POA | D54: INSTITUTO DE MEIO AMBIENTE DO ACRE | E54: ACRELANDIA | F54: Rural | H54: L*****O M*******O | I54: 65*.***.*34 | J54: 45063 | K54: 45794 | L54: Autorização Emitida | M54: =IF(K54="","sem data",IF(K54>=Resumo!$B$3,"vigente","vencida")) -> vencida | N54: 52.182483 | P54: Amazônia | U54: -9.826012 | V54: -67.01188
A55: 21218375 | B55: 20122202319612 | C55: PMFS/POA | D55: INSTITUTO DE MEIO AMBIENTE DO ACRE | E55: ACRELANDIA | F55: Rural | G55: PMFS 2023 - APAFPD | H55: A*******S P*****A A************R DO P*E P***O D**S | I55: 14.***.***/****-83 | J55: 45204 | K55: 47031 | L55: Autorização Emitida | M55: =IF(K55="","sem data",IF(K55>=Resumo!$B$3,"vigente","vencida")) -> vigente | N55: 4571.7736 | P55: Amazônia | T55: 20230086336 | U55: -9.964134 | V55: -66.818933
A56: 21218377 | B56: 20122202319770 | C56: PMFS/POA | D56: INSTITUTO DE MEIO AMBIENTE DO ACRE | E56: ACRELANDIA | F56: Rural | H56: A*******S P*****A A************R DO P*E P***O D**S | I56: 14.***.***/****-83 | J56: 45204 | K56: 45935 | L56: Autorização Emitida | M56: =IF(K56="","sem data",IF(K56>=Resumo!$B$3,"vigente","vencida")) -> vencida | N56: 318.89955 | P56: Amazônia | U56: -9.98727 | V56: -66.817304
A57: 21218514 | B57: 20122202605237 | C57: PMFS/POA | D57: INSTITUTO DE MEIO AMBIENTE DO ACRE | E57: ASSIS BRASIL | F57: Rural | G57: Seringal Senegal | H57: E*****A - M*****A E P******A L**A | I57: 11.***.***/****-60 | J57: 46252 | K57: 48078 | L57: Autorização Emitida | M57: =IF(K57="","sem data",IF(K57>=Resumo!$B$3,"vigente","vencida")) -> vigente | N57: 18535.196 | P57: Amazônia | Q57: RESERVA EXTRATIVISTA CHICO MENDES | T57: 20260131306 | U57: -10.694738 | V57: -69.844573
A58: 21218515 | B58: 20122202605242 | C58: PMFS/POA | D58: INSTITUTO DE MEIO AMBIENTE DO ACRE | E58: ASSIS BRASIL | F58: Rural | H58: E*****A - M*****A E P******A L**A | I58: 11.***.***/****-60 | J58: 46252 | K58: 46983 | L58: Autorização Emitida | M58: =IF(K58="","sem data",IF(K58>=Resumo!$B$3,"vigente","vencida")) -> vigente | N58: 2969.1496 | P58: Amazônia | Q58: RESERVA EXTRATIVISTA CHICO MENDES | U58: -10.691495 | V58: -69.810941
A59: 21200118 | B59: 20122202122414 | C59: PMFS/POA | D59: INSTITUTO DE MEIO AMBIENTE DO ACRE | E59: BRASILEIA | F59: Sem Informação | G59: Fazenda São João | H59: G. L. M***I | I59: 02.***.***/****-20 | J59: 44337 | K59: 46163 | L59: Autorização Emitida | M59: =IF(K59="","sem data",IF(K59>=Resumo!$B$3,"vigente","vencida")) -> vencida | N59: 347.6564 | O59: AC-1200104-81E35B81D03345DA9CDCA480F15A7509 | P59: Amazônia | T59: 20200046928 | U59: -10.921913 | V59: -69.064204
A60: 21200180 | B60: 20122202123117 | C60: PMFS/POA | D60: INSTITUTO DE MEIO AMBIENTE DO ACRE | E60: BRASILEIA | F60: Sem Informação | H60: G. L. M***I | I60: 02.***.***/****-20 | J60: 44347 | K60: 45077 | L60: Autorização Emitida | M60: =IF(K60="","sem data",IF(K60>=Resumo!$B$3,"vigente","vencida")) -> vencida | N60: 97.571357 | O60: AC-1200104-81E35B81D03345DA9CDCA480F15A7509 | P60: Amazônia | U60: -10.907727 | V60: -69.061299
A61: 21218464 | B61: 20122202568118 | C61: PMFS/POA | D61: INSTITUTO DE MEIO AMBIENTE DO ACRE | E61: BRASILEIA | F61: Rural | G61: PMFS Fazenda Ranchão III | H61: G L M***I I*P & E*P E****I | I61: 02.***.***/****-20 | J61: 45831 | K61: 47657 | L61: Autorização Emitida | M61: =IF(K61="","sem data",IF(K61>=Resumo!$B$3,"vigente","vencida")) -> vigente | N61: 839.4507 | P61: Amazônia | Q61: RESERVA EXTRATIVISTA CHICO MENDES | T61: 20250112585 | U61: -10.764768 | V61: -69.030215
A62: 21218468 | B62: 20122202569153 | C62: PMFS/POA | D62: INSTITUTO DE MEIO AMBIENTE DO ACRE | E62: BRASILEIA | F62: Rural | H62: G L M***I I*P & E*P E****I | I62: 02.***.***/****-20 | J62: 45831 | K62: 46561 | L62: Autorização Emitida | M62: =IF(K62="","sem data",IF(K62>=Resumo!$B$3,"vigente","vencida")) -> vigente | N62: 839.4507 | P62: Amazônia | Q62: RESERVA EXTRATIVISTA CHICO MENDES | U62: -10.764768 | V62: -69.030215
A63: 21200019 | B63: 20122201903016 | C63: PMFS/POA | D63: INSTITUTO DE MEIO AMBIENTE DO ACRE | E63: BUJARI | F63: Rural | G63: Manejo Florestal | H63: K*****I K***I | I63: 13*.***.*04 | J63: 43578 | K63: 45405 | L63: Autorização Emitida | M63: =IF(K63="","sem data",IF(K63>=Resumo!$B$3,"vigente","vencida")) -> vencida | N63: 291.94546 | O63: AC-1200138-F340C0E0D15A4A52A179D78655ABEEBF | P63: Amazônia | T63: 20180034858 | U63: -9.777523 | V63: -68.081699
A64: 21200074 | B64: 20122201903091 | C64: PMFS/POA | D64: INSTITUTO DE MEIO AMBIENTE DO ACRE | E64: BUJARI | F64: Rural | H64: K*****I K***I | I64: 13*.***.*04 | J64: 43685 | K64: 44416 | L64: Autorização Emitida | M64: =IF(K64="","sem data",IF(K64>=Resumo!$B$3,"vigente","vencida")) -> vencida | N64: 291.94546 | O64: AC-1200138-F340C0E0D15A4A52A179D78655ABEEBF | P64: Amazônia | U64: -9.777523 | V64: -68.081699
A65: 21200079 | B65: 20122202012813 | C65: PMFS/POA | D65: INSTITUTO DE MEIO AMBIENTE DO ACRE | E65: BUJARI | F65: Rural | G65: Fazenda Liberdade | H65: J**E C****S B****A | I65: 47*.***.*20 | J65: 43900 | K65: 45726 | L65: Autorização Emitida | M65: =IF(K65="","sem data",IF(K65>=Resumo!$B$3,"vigente","vencida")) -> vencida | N65: 1221.1793 | O65: AC-1200138-EACAF424543A40AC9D016E8E44346E3E | P65: Amazônia | T65: 20190041736 | U65: -9.652809 | V65: -67.92786
A66: 21200093 | B66: 20122202012847 | C66: PMFS/POA | D66: INSTITUTO DE MEIO AMBIENTE DO ACRE | E66: BUJARI | F66: Rural | H66: J**E C****S B****A | I66: 47*.***.*20 | J66: 43900 | K66: 44630 | L66: Autorização Emitida | M66: =IF(K66="","sem data",IF(K66>=Resumo!$B$3,"vigente","vencida")) -> vencida | N66: 646.25047 | O66: AC-1200138-EACAF424543A40AC9D016E8E44346E3E | P66: Amazônia | U66: -9.652904 | V66: -67.92714
A67: 21200110 | B67: 20122202023166 | C67: PMFS/POA | D67: INSTITUTO DE MEIO AMBIENTE DO ACRE | E67: BUJARI | F67: Rural | G67: PMFS - Canary | H67: A. D*S A****T A*****T DO P*E C****Y D**S É P*R N*S | I67: 10.***.***/****-10 | J67: 43980 | K67: 45806 | L67: Autorização Emitida | M67: =IF(K67="","sem data",IF(K67>=Resumo!$B$3,"vigente","vencida")) -> vencida | N67: 2190.936 | P67: Amazônia | T67: 20200047379 | U67: -9.404362 | V67: -68.18389
A68: 21200182 | B68: 20122202025145 | C68: PMFS/POA | D68: INSTITUTO DE MEIO AMBIENTE DO ACRE | E68: BUJARI | F68: Rural | H68: A. D*S A****T A*****T DO P*E C****Y D**S É P*R N*S | I68: 10.***.***/****-10 | J68: 44063 | K68: 44793 | L68: Autorização Emitida | M68: =IF(K68="","sem data",IF(K68>=Resumo!$B$3,"vigente","vencida")) -> vencida | N68: 1759.9378 | P68: Amazônia | U68: -9.404362 | V68: -68.18389
A69: 21208473 | B69: 20122202141652 | C69: PMFS/POA | D69: INSTITUTO DE MEIO AMBIENTE DO ACRE | E69: BUJARI | F69: Rural | G69: Revisão 2021 - PMFS - ADPN - PAE Canary | H69: A. D*S A****T A*****T DO P*E C****Y D**S É P*R N*S | I69: 10.***.***/****-10 | J69: 44347 | K69: 46173 | L69: Autorização Emitida | M69: =IF(K69="","sem data",IF(K69>=Resumo!$B$3,"vigente","vencida")) -> vencida | N69: 3976.9709 | P69: Amazônia | T69: 20210056898 | U69: -9.411503 | V69: -68.184378
A70: 21209323 | B70: 20122202144611 | C70: PMFS/POA | D70: INSTITUTO DE MEIO AMBIENTE DO ACRE | E70: BUJARI | F70: Rural | H70: A. D*S A****T A*****T DO P*E C****Y D**S É P*R N*S | I70: 10.***.***/****-10 | J70: 44393 | K70: 45123 | L70: Autorização Emitida | M70: =IF(K70="","sem data",IF(K70>=Resumo!$B$3,"vigente","vencida")) -> vencida | N70: 779.29733 | P70: Amazônia | U70: -9.414052 | V70: -68.188145
A71: 21208562 | B71: 20122202141689 | C71: PMFS/POA | D71: INSTITUTO DE MEIO AMBIENTE DO ACRE | E71: BUJARI | F71: Rural | G71: PMFS - Sgal Canary II | H71: M***O A*****O F******A | I71: 51*.***.*49 | J71: 44420 | K71: 46246 | L71: Autorização Emitida | M71: =IF(K71="","sem data",IF(K71>=Resumo!$B$3,"vigente","vencida")) -> vencida | N71: 2602.3095 | P71: Amazônia | T71: 20210057054 | U71: -9.397007 | V71: -68.343305
A72: 21209608 | B72: 20122202145244 | C72: PMFS/POA | D72: INSTITUTO DE MEIO AMBIENTE DO ACRE | E72: BUJARI | F72: Rural | H72: M***O A*****O F******A | I72: 51*.***.*49 | J72: 44421 | K72: 45151 | L72: Autorização Emitida | M72: =IF(K72="","sem data",IF(K72>=Resumo!$B$3,"vigente","vencida")) -> vencida | N72: 901.94733 | P72: Amazônia | U72: -9.407426 | V72: -68.340152
A73: 21218273 | B73: 20122202271509 | C73: PMFS/POA | D73: INSTITUTO DE MEIO AMBIENTE DO ACRE | E73: BUJARI | F73: Rural | H73: A. D*S A****T A*****T DO P*E C****Y D**S É P*R N*S | I73: 10.***.***/****-10 | J73: 44839 | K73: 45570 | L73: Autorização Emitida | M73: =IF(K73="","sem data",IF(K73>=Resumo!$B$3,"vigente","vencida")) -> vencida | N73: 69.181019 | P73: Amazônia | U73: -9.401245 | V73: -68.229535
A74: 21218272 | B74: 20122202271443 | C74: PMFS/POA | D74: INSTITUTO DE MEIO AMBIENTE DO ACRE | E74: BUJARI | F74: Rural | G74: Revisão 2021 - PMFS - ADPN - PAE Canary | H74: A. D*S A****T A*****T DO P*E C****Y D**S É P*R N*S | I74: 10.***.***/****-10 | J74: 44839 | K74: 46665 | L74: Autorização Emitida | M74: =IF(K74="","sem data",IF(K74>=Resumo!$B$3,"vigente","vencida")) -> vigente | N74: 4326.1404 | P74: Amazônia | T74: 20220068016 | U74: -9.395624 | V74: -68.216794
A75: 21218294 | B75: 20122202275671 | C75: PMFS/POA | D75: INSTITUTO DE MEIO AMBIENTE DO ACRE | E75: BUJARI | F75: Rural | G75: PMFS - PAE Limoeiro | H75: A********O D*S P***. A******. DO P*****O L******O | I75: 09.***.***/****-04 | J75: 44839 | K75: 46665 | L75: Autorização Emitida | M75: =IF(K75="","sem data",IF(K75>=Resumo!$B$3,"vigente","vencida")) -> vigente | N75: 5027.0067 | P75: Amazônia | T75: 20220070513 | U75: -9.424912 | V75: -68.082584
A76: 21218299 | B76: 20122202275689 | C76: PMFS/POA | D76: INSTITUTO DE MEIO AMBIENTE DO ACRE | E76: BUJARI | F76: Rural | H76: A********O D*S P***. A******. DO P*****O L******O | I76: 09.***.***/****-04 | J76: 44840 | K76: 45571 | L76: Autorização Emitida | M76: =IF(K76="","sem data",IF(K76>=Resumo!$B$3,"vigente","vencida")) -> vencida | N76: 810.2695 | P76: Amazônia | U76: -9.388025 | V76: -68.064949
A77: 21218406 | B77: 20122202435686 | C77: PMFS/POA | D77: INSTITUTO DE MEIO AMBIENTE DO ACRE | E77: BUJARI | F77: Rural | H77: A. D*S A****T A*****T DO P*E C****Y D**S É P*R N*S | I77: 10.***.***/****-10 | J77: 45509 | K77: 46239 | L77: Autorização Emitida | M77: =IF(K77="","sem data",IF(K77>=Resumo!$B$3,"vigente","vencida")) -> vencida | N77: 286.50666 | P77: Amazônia | U77: -9.384482 | V77: -68.218254
A78: 21218338 | B78: 20122202498541 | C78: PMFS/POA | D78: INSTITUTO DE MEIO AMBIENTE DO ACRE | E78: BUJARI | F78: Rural | G78: Fazenda Jaraguá/Carolina | H78: S****O S*******O DE B****S | I78: 35*.***.*49 | J78: 45631 | K78: 47457 | L78: Autorização Emitida | M78: =IF(K78="","sem data",IF(K78>=Resumo!$B$3,"vigente","vencida")) -> vigente | N78: 11689.956 | P78: Amazônia | T78: 20220077128 | U78: -9.487408 | V78: -68.124816
A79: 21218339 | B79: 20122202498554 | C79: PMFS/POA | D79: INSTITUTO DE MEIO AMBIENTE DO ACRE | E79: BUJARI | F79: Rural | H79: S****O S*******O DE B****S | I79: 35*.***.*49 | J79: 45631 | K79: 46361 | L79: Autorização Emitida | M79: =IF(K79="","sem data",IF(K79>=Resumo!$B$3,"vigente","vencida")) -> vigente | N79: 4270.9481 | P79: Amazônia | U79: -9.507995 | V79: -68.118088
A80: 21218303 | B80: 20122202576084 | C80: PMFS/POA | D80: INSTITUTO DE MEIO AMBIENTE DO ACRE | E80: BUJARI | F80: Rural | H80: M***O A*****O F******A | I80: 51*.***.*49 | J80: 45686 | K80: 46416 | L80: Autorização Emitida | M80: =IF(K80="","sem data",IF(K80>=Resumo!$B$3,"vigente","vencida")) -> vigente | N80: 879.79218 | P80: Amazônia | U80: -9.418866 | V80: -68.325061
A81: 21218474 | B81: 20122202576393 | C81: PMFS/POA | D81: INSTITUTO DE MEIO AMBIENTE DO ACRE | E81: BUJARI | F81: Rural | H81: A. D*S A****T A*****T DO P*E C****Y D**S É P*R N*S | I81: 10.***.***/****-10 | J81: 45869 | K81: 46599 | L81: Autorização Emitida | M81: =IF(K81="","sem data",IF(K81>=Resumo!$B$3,"vigente","vencida")) -> vigente | N81: 349.18845 | P81: Amazônia | U81: -9.38053 | V81: -68.179116
A82: 21218476 | B82: 20122202577940 | C82: PMFS/POA | D82: INSTITUTO DE MEIO AMBIENTE DO ACRE | E82: BUJARI | F82: Rural | G82: FAZENDA JURUPARI GLEBA 1 | H82: A**O I*******A J******I A**E S*A | I82: 04.***.***/****-76 | J82: 45953 | K82: 47779 | L82: Autorização Emitida | M82: =IF(K82="","sem data",IF(K82>=Resumo!$B$3,"vigente","vencida")) -> vigente | N82: 1685.1241 | P82: Amazônia | T82: 20250115884 | U82: -9.703889 | V82: -68.414904
A83: 21218477 | B83: 20122202577957 | C83: PMFS/POA | D83: INSTITUTO DE MEIO AMBIENTE DO ACRE | E83: BUJARI | F83: Rural | H83: A**O I*******A J******I A**E S*A | I83: 04.***.***/****-76 | J83: 45953 | K83: 46683 | L83: Autorização Emitida | M83: =IF(K83="","sem data",IF(K83>=Resumo!$B$3,"vigente","vencida")) -> vigente | N83: 1685.1241 | P83: Amazônia | U83: -9.703889 | V83: -68.414904
A84: 21218473 | B84: 20122202675175 | C84: PMFS/POA | D84: INSTITUTO DE MEIO AMBIENTE DO ACRE | E84: BUJARI | F84: Rural | H84: A********O D*S P***. A******. DO P*****O L******O | I84: 09.***.***/****-04 | J84: 46140 | K84: 46871 | L84: Autorização Emitida | M84: =IF(K84="","sem data",IF(K84>=Resumo!$B$3,"vigente","vencida")) -> vigente | N84: 351.9346 | P84: Amazônia | U84: -9.470761 | V84: -68.078876
A85: 21200041 | B85: 20122201908041 | C85: PMFS/POA | D85: INSTITUTO DE MEIO AMBIENTE DO ACRE | E85: CAPIXABA | F85: Rural | G85: Fazenda São Luiz I e II | H85: B**Z P***S DA L*Z F***O | I85: 00*.***.*63 | J85: 43642 | K85: 45469 | L85: Autorização Emitida | M85: =IF(K85="","sem data",IF(K85>=Resumo!$B$3,"vigente","vencida")) -> vencida | N85: 696.37637 | O85: AC-1200179-ABFA725426834563AED7D798D1131141 | P85: Amazônia | T85: 20180030292 | U85: -10.553877 | V85: -67.617542
A86: 21200060 | B86: 20122201908885 | C86: PMFS/POA | D86: INSTITUTO DE MEIO AMBIENTE DO ACRE | E86: CAPIXABA | F86: Rural | H86: B**Z P***S DA L*Z F***O | I86: 00*.***.*63 | J86: 43643 | K86: 44374 | L86: Autorização Emitida | M86: =IF(K86="","sem data",IF(K86>=Resumo!$B$3,"vigente","vencida")) -> vencida | N86: 696.37637 | O86: AC-1200179-ABFA725426834563AED7D798D1131141 | P86: Amazônia | U86: -10.553877 | V86: -67.617542
A87: 21200043 | B87: 20122201908042 | C87: PMFS/POA | D87: INSTITUTO DE MEIO AMBIENTE DO ACRE | E87: CAPIXABA | F87: Rural | G87: Fazenda São Sebastião II | H87: C****S B**Z DE O******A P***S | I87: 07*.***.*04 | J87: 43643 | K87: 45470 | L87: Autorização Emitida | M87: =IF(K87="","sem data",IF(K87>=Resumo!$B$3,"vigente","vencida")) -> vencida | N87: 91.161975 | O87: AC-1200179-53E93B5D01214EBC8145C987E0299C68 | P87: Amazônia | T87: 20180030291 | U87: -10.524791 | V87: -67.676519
A88: 21200061 | B88: 20122201908886 | C88: PMFS/POA | D88: INSTITUTO DE MEIO AMBIENTE DO ACRE | E88: CAPIXABA | F88: Rural | H88: C****S B**Z DE O******A P***S | I88: 07*.***.*04 | J88: 43643 | K88: 44374 | L88: Autorização Emitida | M88: =IF(K88="","sem data",IF(K88>=Resumo!$B$3,"vigente","vencida")) -> vencida | N88: 91.161975 | O88: AC-1200179-53E93B5D01214EBC8145C987E0299C68 | P88: Amazônia | U88: -10.524791 | V88: -67.676519
A89: 21216501 | B89: 20122202153823 | C89: PMFS/POA | D89: INSTITUTO DE MEIO AMBIENTE DO ACRE | E89: CAPIXABA | F89: Rural | G89: Fazenda Castanhal Parte A | H89: H******E L**S C*****O N**O | I89: 60*.***.*91 | J89: 44539 | K89: 46365 | L89: Autorização Emitida | M89: =IF(K89="","sem data",IF(K89>=Resumo!$B$3,"vigente","vencida")) -> vigente | N89: 228.56229 | P89: Amazônia | T89: 20210061312 | U89: -10.478436 | V89: -67.969182
A90: 21215035 | B90: 20122202153826 | C90: PMFS/POA | D90: INSTITUTO DE MEIO AMBIENTE DO ACRE | E90: CAPIXABA | F90: Rural | G90: Fazenda Espigão | H90: H******E L**S C*****O N**O | I90: 60*.***.*91 | J90: 44539 | K90: 46365 | L90: Autorização Emitida | M90: =IF(K90="","sem data",IF(K90>=Resumo!$B$3,"vigente","vencida")) -> vigente | N90: 651.17436 | P90: Amazônia | T90: 20210061309 | U90: -10.491473 | V90: -67.951948
A91: 21215036 | B91: 20122202154580 | C91: PMFS/POA | D91: INSTITUTO DE MEIO AMBIENTE DO ACRE | E91: CAPIXABA | F91: Rural | H91: H******E L**S C*****O N**O | I91: 60*.***.*91 | J91: 44539 | K91: 45269 | L91: Autorização Emitida | M91: =IF(K91="","sem data",IF(K91>=Resumo!$B$3,"vigente","vencida")) -> vencida | N91: 651.17436 | P91: Amazônia | U91: -10.491473 | V91: -67.951948
A92: 21216503 | B92: 20122202157459 | C92: PMFS/POA | D92: INSTITUTO DE MEIO AMBIENTE DO ACRE | E92: CAPIXABA | F92: Rural | H92: H******E L**S C*****O N**O | I92: 60*.***.*91 | J92: 44539 | K92: 45269 | L92: Autorização Emitida | M92: =IF(K92="","sem data",IF(K92>=Resumo!$B$3,"vigente","vencida")) -> vencida | N92: 228.56229 | P92: Amazônia | U92: -10.478436 | V92: -67.969182
A93: 21218232 | B93: 20122202262285 | C93: PMFS/POA | D93: INSTITUTO DE MEIO AMBIENTE DO ACRE | E93: CAPIXABA | F93: Rural | G93: Colônia Samaúma Parte A e B | H93: J**E A*****O T*******I | I93: 09*.***.*49 | J93: 44595 | K93: 46421 | L93: Autorização Emitida | M93: =IF(K93="","sem data",IF(K93>=Resumo!$B$3,"vigente","vencida")) -> vigente | N93: 29.738989 | P93: Amazônia | T93: 20210064382 | U93: -10.495383 | V93: -67.706501
A94: 21213596 | B94: 20122202251545 | C94: PMFS/POA | D94: INSTITUTO DE MEIO AMBIENTE DO ACRE | E94: CAPIXABA | F94: Rural | G94: : PAE São Luiz do Remanso | H94: A****. D*S M****. E A***************S DO R*****O DE C******A | I94: 01.***.***/****-78 | J94: 44715 | K94: 46541 | L94: Autorização Emitida | M94: =IF(K94="","sem data",IF(K94>=Resumo!$B$3,"vigente","vencida")) -> vigente | N94: 7.9151519 | P94: Amazônia | T94: 20210060821 | U94: -10.483331 | V94: -67.899485
A95: 21218263 | B95: 20122202269599 | C95: PMFS/POA | D95: INSTITUTO DE MEIO AMBIENTE DO ACRE | E95: CAPIXABA | F95: Rural | H95: A****. D*S M****. E A***************S DO R*****O DE C******A | I95: 01.***.***/****-78 | J95: 44721 | K95: 45452 | L95: Autorização Emitida | M95: =IF(K95="","sem data",IF(K95>=Resumo!$B$3,"vigente","vencida")) -> vencida | N95: 3.4392448 | P95: Amazônia | U95: -10.483479 | V95: -67.900289
A96: 21218257 | B96: 20122202268905 | C96: PMFS/POA | D96: INSTITUTO DE MEIO AMBIENTE DO ACRE | E96: CAPIXABA | F96: Rural | H96: J**E A*****O T*******I | I96: 09*.***.*49 | J96: 44816 | K96: 45547 | L96: Autorização Emitida | M96: =IF(K96="","sem data",IF(K96>=Resumo!$B$3,"vigente","vencida")) -> vencida | N96: 29.738989 | P96: Amazônia | U96: -10.495383 | V96: -67.706501
A97: 21218459 | B97: 20122202566286 | C97: PMFS/POA | D97: INSTITUTO DE MEIO AMBIENTE DO ACRE | E97: CAPIXABA | F97: Rural | G97: Fazenda Castanhal Parte B | H97: H******E L**S C*****O N**O | I97: 60*.***.*91 | J97: 45818 | K97: 47644 | L97: Autorização Emitida | M97: =IF(K97="","sem data",IF(K97>=Resumo!$B$3,"vigente","vencida")) -> vigente | N97: 499.49784 | P97: Amazônia | T97: 20250111646 | U97: -10.503747 | V97: -67.951547
A98: 21218458 | B98: 20122202566302 | C98: PMFS/POA | D98: INSTITUTO DE MEIO AMBIENTE DO ACRE | E98: CAPIXABA | F98: Rural | H98: H******E L**S C*****O N**O | I98: 60*.***.*91 | J98: 45818 | K98: 46548 | L98: Autorização Emitida | M98: =IF(K98="","sem data",IF(K98>=Resumo!$B$3,"vigente","vencida")) -> vigente | N98: 499.49784 | P98: Amazônia | U98: -10.503747 | V98: -67.951547
A99: 21216813 | B99: 20122202157803 | C99: PMFS/POA | D99: INSTITUTO DE MEIO AMBIENTE DO ACRE | E99: EPITACIOLANDIA | F99: Rural | H99: S*******O I****L T*****S | I99: 01*.***.*30 | J99: 44516 | K99: 46342 | L99: Autorização Emitida | M99: =IF(K99="","sem data",IF(K99>=Resumo!$B$3,"vigente","vencida")) -> vigente | N99: 884.52892 | P99: Amazônia | U99: -11.021743 | V99: -68.409069
A100: 21216956 | B100: 20122202157935 | C100: PMFS/POA | D100: INSTITUTO DE MEIO AMBIENTE DO ACRE | E100: EPITACIOLANDIA | F100: Rural | H100: S*******O I****L T*****S | I100: 01*.***.*30 | J100: 44516 | K100: 45246 | L100: Autorização Emitida | M100: =IF(K100="","sem data",IF(K100>=Resumo!$B$3,"vigente","vencida")) -> vencida | N100: 477.5255 | P100: Amazônia | U100: -10.979582 | V100: -68.412249
...

Sheet Leia-me
A1: Leia-me
A3: Planilha | B3: Autorizações do SINAFLOR no Acre (todas as atividades)
A4: Fonte | B4: SINAFLOR/IBAMA — base pública de projetos autorizados (sinaflor_proj_externo_merge_a), cópia de 05/09/2026
A5: Recorte | B5: Unidade da federação = AC; 370 autorizações, todas com situação "Autorização Emitida" no SINAFLOR
A6: Abas | B6: Resumo (totais por atividade, órgão emissor e município, com fórmulas) e Autorizacoes (uma linha por autorização)
A7: Vigência | B7: Calculada na planilha pela data final de validade e pela data de referência da aba Resumo (célula B3, 01/10/2026)
A8: Dados pessoais | B8: Nome do detentor e CPF/CNPJ já vêm mascarados no próprio SINAFLOR e foram mantidos como publicados
A9: Área (ha) | B9: Área do polígono informada no SINAFLOR (campo area_pamgi)
A10: Latitude e longitude | B10: Ponto interno do polígono, em graus decimais, SIRGAS 2000 (calculado pelo IMAC)
A11: Arquivos vetoriais | B11: Um shapefile por atividade na mesma página: ASV, Exploração de Floresta Plantada, PMFS/POA e Uso Alternativo do Solo
A12: Responsável | B12: Instituto de Meio Ambiente do Acre (IMAC)
